BEGIN:VCALENDAR
PRODID:NingEventWidget-v1
VERSION:2.0
METHOD:PUBLISH
BEGIN:VTIMEZONE
TZID:Europe/London
X-LIC-LOCATION:Europe/London
BEGIN:DAYLIGHT
TZOFFSETFROM:+0000
TZOFFSETTO:+0100
TZNAME:BST
DTSTART:19700329T010000
RRULE:FREQ=YEARLY;BYMONTH=3;BYDAY=-1SU
END:DAYLIGHT
BEGIN:STANDARD
TZOFFSETFROM:+0100
TZOFFSETTO:+0000
TZNAME:GMT
DTSTART:19701025T020000
RRULE:FREQ=YEARLY;BYMONTH=10;BYDAY=-1SU
END:STANDARD
END:VTIMEZONE
BEGIN:VEVENT
UID:4626108:Event:69804
DTSTAMP:20260421T055202Z
SUMMARY:Surrey Business Club Evening, Dorking
DESCRIPTION:Dorking Brasserie, Dorking  \n\nYet another NEW Venue thi
 s month!!\nAs long standing business colleagues our low key networking
  is of exceptionally high quality in an extremely relaxed environment 
 and up to 4 NiS members are welcome to share this.\nYou MUST text me i
 f you wish to request an invitation & I'll call you back with details 
 of our venue + the terms & conditions.\nLovely food, great company, me
 morable evening!\nCOST: Free to attend - pay for your own meal\nBOOKIN
 G: Please text Ian Hamilton on 07583 845057 if you'd like to join us a
 nd I'll call you back to confirm.\nMAP\n\n\nFor more information visit
  https://networkinginsurrey.co.uk/events/surrey-business-club-evening-
 dorking
DTSTART;TZID=Europe/London:20141126T190000
DTEND;TZID=Europe/London:20141126T220000
CATEGORIES:evening, dinner
LOCATION:Dorking Brasserie
WEBSITE:http://www.dorkingbrasserie.co.uk
URL:http://www.dorkingbrasserie.co.uk
CONTACT:07583 845057 TXT ONLY PLEASE
ORGANIZER:Karen Worcester
ATTACH;FMTTYPE="image/jpeg":http://storage.ning.com/topology/rest/1.0/
 file/get/2470851072?profile=original
ATTENDEE;ROLE=REQ-PARTICIPANT;PARTSTAT=ACCEPTED;RSVP=TRUE;CN="Lord Ham
 ilton of Glencoe":https://networkinginsurrey.co.uk/profile/BrianIanHam
 ilton
END:VEVENT
END:VCALENDAR
