BEGIN:VCALENDAR
PRODID:NingEventWidget-v1
VERSION:2.0
METHOD:PUBLISH
BEGIN:VTIMEZONE
TZID:Europe/London
X-LIC-LOCATION:Europe/London
BEGIN:DAYLIGHT
TZOFFSETFROM:+0000
TZOFFSETTO:+0100
TZNAME:BST
DTSTART:19700329T010000
RRULE:FREQ=YEARLY;BYMONTH=3;BYDAY=-1SU
END:DAYLIGHT
BEGIN:STANDARD
TZOFFSETFROM:+0100
TZOFFSETTO:+0000
TZNAME:GMT
DTSTART:19701025T020000
RRULE:FREQ=YEARLY;BYMONTH=10;BYDAY=-1SU
END:STANDARD
END:VTIMEZONE
BEGIN:VEVENT
UID:4626108:Event:1643
DTSTAMP:20260425T214749Z
SUMMARY:Surrey Business Club Evening, Cobham
DESCRIPTION:So You'd Like a Free Lunch?\n\nSBC Member Ian Hamilton sha
 res his insider tips on all the free and low-cost resources for you an
 d your business - ready for the taking, if you only know where to find
  them!\nYou could be missing out on hundreds, if not thousands of poun
 ds! A short presentation and discussion session with Ian Hamilton who 
 will share his ideas for getting free or discounted products and servi
 ces for you and your business. You can network, enjoy the buffet, and 
 share any tips and ideas of your own on how we can all save time, mone
 y and resources in our businesses...\nAgenda:\nRelaxed Networking and 
 Buffet from 7.00 to 7.45pm\nMain workshop from 7.45 to 8.45pm\nCOST (i
 ncluding buffet): Full Members - free; Pay per Meeting Members - £12;
  Non-Members (bring a guest for free!) - £17.50\nBOOK HERE\nMAP\nDIRE
 CTIONS The Cricketers is on the north side of Downside Common, at the 
 end of a short unmade narrow road past a few houses. If you're coming 
 off the A3 at the Cobham/Weybridge turnoff, head south toward Cobham H
 igh Street and turn right opposite Waitrose. This road leads all the w
 ay to Downside Common - and it's easy to miss the turn into the pub on
  your left, so be prepared to turn back and try again! That's the 'Dow
 nside' - but on the upside, there's plenty of room in the pub car park
  - oh, and the buffet is delicious!\n-------------------------\nSurrey
  Business Club is a not-for-profit organisation for Surrey business pe
 ople, helping them to develop professional skills and business opportu
 nities in a supportive social environment. It's the oldest business ne
 tworking club in Surrey, founded in the 1970's, and there are no membe
 rship restrictions or monitored referrsl systems - just informal, grow
 n-up networking in a friendly atmosphere.\n\nFor more information visi
 t https://networkinginsurrey.co.uk/events/surrey-business-club-evening
 -2
DTSTART;TZID=Europe/London:20100406T190000
DTEND;TZID=Europe/London:20100406T210000
CATEGORIES:evening, cobham, seminar
LOCATION:The Cricketers, Downside, nr. Cobham KT11 3NX
WEBSITE:http://surreybusinessclub.org.uk/apr10
URL:http://surreybusinessclub.org.uk/apr10
CONTACT:01932 845814 Keith Grover
ORGANIZER;CN="Keith Grover, NiS Founder":https://networkinginsurrey.co
 .uk/profile/KeithGrover
ATTACH;FMTTYPE="image/jpeg":http://storage.ning.com/topology/rest/1.0/
 file/get/2591374362?profile=original
ATTENDEE;ROLE=REQ-PARTICIPANT;PARTSTAT=ACCEPTED;RSVP=TRUE;CN="Keith Gr
 over, NiS Founder":https://networkinginsurrey.co.uk/profile/KeithGrove
 r
END:VEVENT
END:VCALENDAR
