BEGIN:VCALENDAR
PRODID:NingEventWidget-v1
VERSION:2.0
METHOD:PUBLISH
BEGIN:VTIMEZONE
TZID:Europe/London
X-LIC-LOCATION:Europe/London
BEGIN:DAYLIGHT
TZOFFSETFROM:+0000
TZOFFSETTO:+0100
TZNAME:BST
DTSTART:19700329T010000
RRULE:FREQ=YEARLY;BYMONTH=3;BYDAY=-1SU
END:DAYLIGHT
BEGIN:STANDARD
TZOFFSETFROM:+0100
TZOFFSETTO:+0000
TZNAME:GMT
DTSTART:19701025T020000
RRULE:FREQ=YEARLY;BYMONTH=10;BYDAY=-1SU
END:STANDARD
END:VTIMEZONE
BEGIN:VEVENT
UID:4626108:Event:3248
DTSTAMP:20260425T120643Z
SUMMARY:Surrey Business Club BBQ Evening, Newlands Corner
DESCRIPTION:Surrey Business Club BBQ\n\nAs usual, we're having a BBQ e
 vening for our August meeting! We'll meet at The Barn Cafe at Newlands
  Corner on Tuesday 3 August at 7pm for a burger & salad buffet with de
 ssert and wine included. SBC Members can bring a partner for free.\nCO
 ST: SBC Members free. Guests are welcome at a cost of £17.50 per head
  - please contact us here if you would like to join us for a sociable 
 evening...\n\nMAP\n---------------\nSurrey Business Club (SBC) no long
 er operates as a subscription-based club, meeting on the first Tuesday
  of every month, in a formal venue with speakers, structured networkin
 g and buffet. Instead, the Club is now a social forum for local busine
 sses, and we shall meet (usually on the first Tuesday of each month) i
 n public venues such as pubs, clubs and restaurants, for the usual SBC
  mix of business-related discussions and mutual support and friendship
 . There will also be the occasional game of golf, plus a Summer BBQ an
 d Christmas Dinner. The Club is not currently accepting new Members, b
 ut membership will continue free of charge for existing fully paid-up 
 and honorary Members. Non-members and former members will be very welc
 ome to join us for these informal meetings on a ‘pay for what you ea
 t and drink’ basis, but are asked to please confirm their attendance
  in advance\nSurrey Business Club features in our Regular Group Meetin
 gs section here.\n\nFor more information visit https://networkinginsur
 rey.co.uk/events/surrey-business-club-bbq
DTSTART;TZID=Europe/London:20100803T190000
DTEND;TZID=Europe/London:20100803T213000
CATEGORIES:evening, barbecue, business_networking_surrey
LOCATION:The Barn Cafe, Newlands Corner GU4 8SE
WEBSITE:http://surreybusinessclub.org.uk/
URL:http://surreybusinessclub.org.uk/
CONTACT:01932 845814 Keith
ORGANIZER;CN="Keith Grover, NiS Founder":https://networkinginsurrey.co
 .uk/profile/KeithGrover
ATTACH;FMTTYPE="image/jpeg":http://storage.ning.com/topology/rest/1.0/
 file/get/2591384916?profile=original
ATTENDEE;ROLE=REQ-PARTICIPANT;PARTSTAT=ACCEPTED;RSVP=TRUE;CN="Keith Gr
 over, NiS Founder":https://networkinginsurrey.co.uk/profile/KeithGrove
 r
ATTENDEE;ROLE=REQ-PARTICIPANT;PARTSTAT=TENTATIVE;RSVP=TRUE;CN="Rosemar
 y Hemmett":https://networkinginsurrey.co.uk/profile/RosemaryHemmett
END:VEVENT
END:VCALENDAR
