BEGIN:VCALENDAR
PRODID:NingEventWidget-v1
VERSION:2.0
METHOD:PUBLISH
BEGIN:VTIMEZONE
TZID:Europe/London
X-LIC-LOCATION:Europe/London
BEGIN:DAYLIGHT
TZOFFSETFROM:+0000
TZOFFSETTO:+0100
TZNAME:BST
DTSTART:19700329T010000
RRULE:FREQ=YEARLY;BYMONTH=3;BYDAY=-1SU
END:DAYLIGHT
BEGIN:STANDARD
TZOFFSETFROM:+0100
TZOFFSETTO:+0000
TZNAME:GMT
DTSTART:19701025T020000
RRULE:FREQ=YEARLY;BYMONTH=10;BYDAY=-1SU
END:STANDARD
END:VTIMEZONE
BEGIN:VEVENT
UID:4626108:Event:87643
DTSTAMP:20260424T145034Z
SUMMARY:FREE Starting Up A Food Business Morning Workshop, Richmond
DESCRIPTION:Starting Up A Food Business And Building Incredible Sales\
 n\nRichmond Foodies in association with StartUp Richmond and CPG Execu
 tive Consulting Ltd Proudly Presents “Starting Up A Food Business An
 d Building Incredible Sales\"\n You are invited to this free workshop
  where you will learn what it takes to start up and run a successful f
 ood business. \nGET YOUR FOOD BUSINESS GROWING\nif you are thinking o
 f starting or have started a food business and are interested in learn
 ing how to build a successful business sales model to boost profits th
 en this is for you \n\nDo you have a great quality product you want t
 o bring to market?\nDo you want to understand how to build your busine
 ss for success?\nAre you looking for proven sales strategies that work
  to grow your business faster\n\n What you will learn in this Master 
 Class \n\nThe different food business structures available\nHow to de
 veloping your food business plan\nHow to access your target audience\n
 How to build a Business Sales models that builds profits\nWays to acce
 ss start  finance\nHow to set up the infrastructure of your business 
 to facilitate growth\nBecome crystal clear on your value proposition\n
 Understand the problems & needs of customers and how to communicate to
  them to get results\nLearn how to perfect your sales pitch\nWhat type
  of sales approach you need and channels you can us\n\nWho is this wor
 kshop for?\nThis workshop is for any Food Business leader who leads th
 e sales strategy and wants to gain a clear sales plan and how to achie
 ve them.\nIt delivers the very latest innovations in business growth s
 trategies and actionable tactics that simply work and provide outstand
 ing results through the implementation of strategies in the room while
  at the event.\nCOST: FREE - but booking is essential please\nBOOKIN
 G: Please CLICK HERE to claim your free place\nMAP\n \n\nFor more i
 nformation visit https://networkinginsurrey.co.uk/events/starting-up-a
 -food-business-and-building-incredible-sales
DTSTART;TZID=Europe/London:20170425T100000
DTEND;TZID=Europe/London:20170425T120000
CATEGORIES:master, class
LOCATION:Richmond Library Annexe, Quadrant Road, Richmond TW9 1DH
WEBSITE:https://www.eventbrite.co.uk/e/starting-up-a-food-business-and
 -building-incredible-sales-tickets-33389382542
URL:https://www.eventbrite.co.uk/e/starting-up-a-food-business-and-bui
 lding-incredible-sales-tickets-33389382542
CONTACT:020711932316
ORGANIZER;CN="Soraya Lavery":https://networkinginsurrey.co.uk/profile/
 SorayaLavery294
ATTACH;FMTTYPE="image/jpeg":http://storage.ning.com/topology/rest/1.0/
 file/get/2591413531?profile=original
ATTENDEE;ROLE=REQ-PARTICIPANT;PARTSTAT=ACCEPTED;RSVP=TRUE;CN="Soraya L
 avery":https://networkinginsurrey.co.uk/profile/SorayaLavery294
END:VEVENT
END:VCALENDAR
