BEGIN:VCALENDAR
PRODID:NingEventWidget-v1
VERSION:2.0
METHOD:PUBLISH
BEGIN:VTIMEZONE
TZID:Europe/London
X-LIC-LOCATION:Europe/London
BEGIN:DAYLIGHT
TZOFFSETFROM:+0000
TZOFFSETTO:+0100
TZNAME:BST
DTSTART:19700329T010000
RRULE:FREQ=YEARLY;BYMONTH=3;BYDAY=-1SU
END:DAYLIGHT
BEGIN:STANDARD
TZOFFSETFROM:+0100
TZOFFSETTO:+0000
TZNAME:GMT
DTSTART:19701025T020000
RRULE:FREQ=YEARLY;BYMONTH=10;BYDAY=-1SU
END:STANDARD
END:VTIMEZONE
BEGIN:VEVENT
UID:4626108:Event:37905
DTSTAMP:20260421T094015Z
SUMMARY:MEMBER PROMO: Soirees at Breinton piano recital, Woking
DESCRIPTION:Soirees at Breinton - Solo Piano Recital by Katya Apekishe
 va\n\nKumi & Lionel established Soirees at Breinton in the spring of 2
 009 as a non-profit, member society formed “to advance, improve deve
 lop and maintain public education in, and appreciation of, the art and
  science of music”.  \nTheir next event is a solo piano recital b
 y Katya Apekisheva on Saturday 3 December 2011 at 7:30 pm \nKatya Ape
 kisheva is one of Europe's foremost pianists, in demand internationall
 y as a soloist and chamber musician, and has been described by Gramoph
 one as 'a profoundly gifted artist' who has 'already achieved artistic
  greatness'. A prize-winner at the Leeds Piano Competition and Scottis
 h Piano Competition, she has appeared as soloist with many of the worl
 d's leading orchestras and has collaborated with such conductors as  
 Simon Rattle, David Shallon and Alexander Lazarev.\nBorn in Moscow int
 o a family of musicians, she studied at the Gnessin music school for e
 xceptionally gifted children under Ada Traub and Anna Kantor (the teac
 her of Evgeny Kissin). At the age of 12 she performed a Mozart Concert
 o with Gnessin School Orchestra which was broadcast by Moscow Classica
 l Radio.\n\"...Her power and temperament remind me of Martha Argerich.
 ..\" - Nezavisimaya Gazeta, Moscow\n\"...Astute colours and brilliant 
 technique...\" - The Times\n\"...Most outstanding...superbly controlle
 d technique and commanding musicality throughout... astonishing...\" -
  Yorkshire Post at the Leeds Piano Competition\nCOST: Tickets are pric
 ed at £18 each and include annual season membership to the Society an
 d snacks and drinks during the interval.\nBOOKING: Tickets are on sale
  now; please reserve online.  Payments can also be made online or sen
 t in via cheque. \nMAP & DIRECTIONS\n--------------------------------
 --\nSoirees at Breinton take place in a private home in Woking and are
  intimate, informal and enjoyable, with the added attraction of time t
 o enjoy some light snacks and drinks during the interval with other Me
 mbers.\n\nFor more information visit https://networkinginsurrey.co.uk/
 events/soirees-at-breinton-present-a-piano-recital-by-katya-apekisheva
DTSTART;TZID=Europe/London:20111203T193000
DTEND;TZID=Europe/London:20111203T220000
CATEGORIES:evening, piano_recital, woking
LOCATION:Breinton  GU22 0RD
WEBSITE:http://www.breinton.com
URL:http://www.breinton.com
CONTACT:0778 905 2028
ORGANIZER:Breinton Recital Society
ATTACH;FMTTYPE="image/jpeg":http://storage.ning.com/topology/rest/1.0/
 file/get/2591396409?profile=original
ATTENDEE;ROLE=REQ-PARTICIPANT;PARTSTAT=ACCEPTED;RSVP=TRUE;CN="Lionel S
 mith-Gordon":https://networkinginsurrey.co.uk/profile/Breinton
END:VEVENT
END:VCALENDAR
