BEGIN:VCALENDAR
PRODID:NingEventWidget-v1
VERSION:2.0
METHOD:PUBLISH
BEGIN:VTIMEZONE
TZID:Europe/London
X-LIC-LOCATION:Europe/London
BEGIN:DAYLIGHT
TZOFFSETFROM:+0000
TZOFFSETTO:+0100
TZNAME:BST
DTSTART:19700329T010000
RRULE:FREQ=YEARLY;BYMONTH=3;BYDAY=-1SU
END:DAYLIGHT
BEGIN:STANDARD
TZOFFSETFROM:+0100
TZOFFSETTO:+0000
TZNAME:GMT
DTSTART:19701025T020000
RRULE:FREQ=YEARLY;BYMONTH=10;BYDAY=-1SU
END:STANDARD
END:VTIMEZONE
BEGIN:VEVENT
UID:4626108:Event:2381
DTSTAMP:20260426T034246Z
SUMMARY:Social Media at the Races! Brighton Racecourse
DESCRIPTION:\nAll day event at Brighton Racecourse. Learn how to creat
 e a strategy to 'future proof' your business. Presented by the UK's Ki
 ng and Queen of social media! Learn from the experts and come away wit
 h all the free tools you need to start immediately...and have fun on t
 he horses later in the day. We have our own private suite overlooking 
 the racecourse with refreshments and lunch included. We look forward t
 o a great day - hope you can join us!\n\nThis all day interactive Soci
 al Media course that will help you to create a strategy to ‘future p
 roof’ your business. We’re very lucky to have NiS Member Vanessa W
 arwick and Nick Tadd who are among the top UK experts on the subject 
 .in fact they’ve often been referred to as the King and Queen of s
 ocial media. What these guys don’t know isn’t worth knowing!\nCome
  and learn how Vanessa and Nick have created massive business exposure
  over the past four years with a £0 marketing budget, just by using f
 ree tools to leverage the social web and they’ll show you how to do 
 the same. Unlike traditional marketing methods like advertisements, le
 afleting, SEO, PPC, Google Ad Words, etc, which cost money to implemen
 t, there are no barriers to entry to engage on the social web, as most
  of the tools are free to use! Optimising the social web also opens up
  a third business exposure channel – consumer to consumer – otherw
 ise known as peer, friend, or community review. Bearing in mind that o
 nly 14% of people trust advertisements, whereas 78% of people trust a 
 community recommendation, can you afford not to tap into this? It’s 
 also worth noting that 90% of emails sent are regarded as spam by the 
 recipient, so that is why email marketing campaigns are starting to fa
 il.\n\nIt’s time to wake up to the social web and all the business p
 ossibilities it offers!\n\nNick and Vanessa will explain how you can e
 ngage with the social web to become known as the “go to” person fo
 r your product or service and how you can build a compelling brand to 
 stand out from the crowd.\n\nNot only that, we’ve also put some fun 
 into the day too. As it’s being held at Brighton racecourse we’ve 
 purposely booked the course on a race day, so in the afternoon you’l
 l get the opportunity to have a ‘flutter’….but only if you want 
 to of course. The choice is yours, you can continue learning, network 
 with new and existing contacts or simply soak up the ambience of the d
 ay.\n\nAGENDA:\nArrival 8.30am for 9am start\nTeas, coffees, pastries\
 nWelcome to the social web\nSocial media training\nStarting out and th
 e best way to gain traction\nBuffet lunch in our own private suite ove
 rlooking the racecourse\n2.30pm racing starts\nCash bar available\nPle
 nty of free parking\nFree entry to racecourse\n5.30 finish\n\nFor a fu
 ll itinerary, please email NiS Member Becky Patmore - becky@business-i
 ntros.com\n\nHope you can make it. It’ll be a great day I know…all
  we need is the sunshine...There are limited places, so book today!\n\
 nCOST: £239 inc per person\nBOOK HERE\n\nFor more information visit h
 ttps://networkinginsurrey.co.uk/events/social-media-at-the-races
DTSTART;TZID=Europe/London:20100528T180000
DTEND;TZID=Europe/London:20100528T190000
CATEGORIES:training, brighton
LOCATION:Brighton Racecourse
WEBSITE:http://socialmediabrighton.blogspot.com/
URL:http://socialmediabrighton.blogspot.com/
CONTACT:07799 660222
ORGANIZER:Becky Patmore
ATTACH;FMTTYPE="image/jpeg":http://storage.ning.com/topology/rest/1.0/
 file/get/2591377754?profile=original
END:VEVENT
END:VCALENDAR
