BEGIN:VCALENDAR
PRODID:NingEventWidget-v1
VERSION:2.0
METHOD:PUBLISH
BEGIN:VTIMEZONE
TZID:Europe/London
X-LIC-LOCATION:Europe/London
BEGIN:DAYLIGHT
TZOFFSETFROM:+0000
TZOFFSETTO:+0100
TZNAME:BST
DTSTART:19700329T010000
RRULE:FREQ=YEARLY;BYMONTH=3;BYDAY=-1SU
END:DAYLIGHT
BEGIN:STANDARD
TZOFFSETFROM:+0100
TZOFFSETTO:+0000
TZNAME:GMT
DTSTART:19701025T020000
RRULE:FREQ=YEARLY;BYMONTH=10;BYDAY=-1SU
END:STANDARD
END:VTIMEZONE
BEGIN:VEVENT
UID:4626108:Event:304098
DTSTAMP:20260422T151756Z
SUMMARY:Social Business Networking Evening, Staines-upon-Thames
DESCRIPTION:Evening Networking at The Thames Club, Staines-upon-Thames
 \r\n\r\nCome and join us for an enjoyable social evening along with so
 me informal business networking - a great chance to make some new loca
 l contacts.\r\nThere will be an excellent buffet provided by Roost and
  there is a fully stocked bar at the venue. There is also ample free p
 arking.\r\nYou will be able to take a tour of the Thames Club includin
 g the Hot Yoga club. All attendees will receive a 3-day guest pass fo
 r the Thames Club and 4-day Hot Yoga membership.\r\nThere will be a ra
 ffle in aid of Midas Plus, a local registered charity. We had about 60
  people at our last event and expect to have similar numbers this time
 .\r\nCOST: Meeting fee £7.25 including a light buffet, cash bar avail
 able \r\nBOOKING: Please CLICK HERE to book or email  mike@activuk
 .com\r\nMAP\n\nFor more information visit https://networkinginsurrey.c
 o.uk/events/social-business-networking-evening-staines-upon-thames-1
DTSTART;TZID=Europe/London:20200226T183000
DTEND;TZID=Europe/London:20200226T210000
CATEGORIES:evening, staines
LOCATION:The Thames Club (Staines Football Club)
WEBSITE:https://www.eventbrite.co.uk/e/social-business-networking-even
 t-tickets-69036394715
URL:https://www.eventbrite.co.uk/e/social-business-networking-event-ti
 ckets-69036394715
CONTACT:07803 706440
ORGANIZER:Mike Wylie
ATTACH;FMTTYPE="image/jpeg":https://storage.ning.com/topology/rest/1.0
 /file/get/3570766860?profile=original
ATTENDEE;ROLE=REQ-PARTICIPANT;PARTSTAT=ACCEPTED;RSVP=TRUE;CN="Keith Gr
 over, NiS Founder":https://networkinginsurrey.co.uk/profile/KeithGrove
 r
END:VEVENT
END:VCALENDAR
