BEGIN:VCALENDAR
PRODID:NingEventWidget-v1
VERSION:2.0
METHOD:PUBLISH
BEGIN:VTIMEZONE
TZID:Europe/London
X-LIC-LOCATION:Europe/London
BEGIN:DAYLIGHT
TZOFFSETFROM:+0000
TZOFFSETTO:+0100
TZNAME:BST
DTSTART:19700329T010000
RRULE:FREQ=YEARLY;BYMONTH=3;BYDAY=-1SU
END:DAYLIGHT
BEGIN:STANDARD
TZOFFSETFROM:+0100
TZOFFSETTO:+0000
TZNAME:GMT
DTSTART:19701025T020000
RRULE:FREQ=YEARLY;BYMONTH=10;BYDAY=-1SU
END:STANDARD
END:VTIMEZONE
BEGIN:VEVENT
UID:4626108:Event:1915
DTSTAMP:20260425T214625Z
SUMMARY:Smart Boardroom Business Simulation Game Evening, Weybridge
DESCRIPTION:Smart Boardroom Business Simulation Game\n\nWhat if manage
 rs could practice overcoming challenges, implementing change and maxim
 ising opportunities in a safe, simulated environment before testing th
 eir abilities in real life situations? In short, why don't business ma
 nagers have the same opportunity as pilots, surgeons and other profess
 ionals that are responsible and accountable for critical decisions? Sm
 art Boardroom business simulation game events encourage each team to h
 ave as broad a profile as possible. Experiencing the benefits of havin
 g different perspectives in the decision-making process proves the pri
 nciple of diversity driving innovation beyond doubt.\n\nThe simulation
  builds confidence and expertise by providing an opportunity to run a 
 \"virtual company\" in a competitive market. Participants learn throug
 h realistic experience about business principles and practices, develo
 ping and improving skills in risk assessment, strategic planning and d
 ecision-taking.\n\nWe are inviting prospective Affiliates and Partners
  to take part in a Smart Boardroom event at a concessionary rate.\n\nY
 ou will join a team tasked with taking over a company in a competitive
  market. You will experience the consequences and successes of your po
 licy decisions but with several trading periods compressed into a few 
 hours. Those taking part invariably leave with ideas that can improve 
 real-life businesses - and the confidence and determination to make th
 em happen!\n\nBetween trading periods, teams will gain an insight on e
 merging business trends from existing Affiliates and/or Partners. Our 
 primary purpose with this event is to meet those interested in promoti
 ng their business expertise at future events targeted at the wider bus
 iness community. Your mission, should you choose to accept it, is to e
 valuate the Smart Boardroom and tell us how you would use it!\n\n\"It'
 s been a fantastic evening - it's a really truly clever, very focused 
 and professional way of learning about business.\" David Shaw - Profes
 sional CRM Consultant and Ecademy member\n\nCOST: £15 +VAT\n\nBOOK HE
 RE\nMAP\nVENUE\n---------------------\nThis New Dimension event is org
 anised by NiS Members Doug Holman and Richard Francis\n\nFor more info
 rmation visit https://networkinginsurrey.co.uk/events/smart-boardroom-
 business
DTSTART;TZID=Europe/London:20100419T180000
DTEND;TZID=Europe/London:20100419T220000
CATEGORIES:training, evening, weybridge
LOCATION:The Ship Hotel, Weybridge KT13 8BQ
WEBSITE:http://www.businessgame.co.uk/default.asp
URL:http://www.businessgame.co.uk/default.asp
CONTACT:01428 609918
ORGANIZER:Doug Holman
ATTACH;FMTTYPE="image/jpeg":http://storage.ning.com/topology/rest/1.0/
 file/get/2591377754?profile=original
END:VEVENT
END:VCALENDAR
