BEGIN:VCALENDAR
PRODID:NingEventWidget-v1
VERSION:2.0
METHOD:PUBLISH
BEGIN:VTIMEZONE
TZID:Europe/London
X-LIC-LOCATION:Europe/London
BEGIN:DAYLIGHT
TZOFFSETFROM:+0000
TZOFFSETTO:+0100
TZNAME:BST
DTSTART:19700329T010000
RRULE:FREQ=YEARLY;BYMONTH=3;BYDAY=-1SU
END:DAYLIGHT
BEGIN:STANDARD
TZOFFSETFROM:+0100
TZOFFSETTO:+0000
TZNAME:GMT
DTSTART:19701025T020000
RRULE:FREQ=YEARLY;BYMONTH=10;BYDAY=-1SU
END:STANDARD
END:VTIMEZONE
BEGIN:VEVENT
UID:4626108:Event:56714
DTSTAMP:20260419T191932Z
SUMMARY:SBA Business Breakfast, Staines upon Thames
DESCRIPTION:Joint Group Networking Breakfast at The Thames Club\n\nW
 e are welcoming the TBA & NSBA to join us for a joint meeting. With so
  many extra businesses there - can you afford to miss out.\nVisitors w
 elcome.\n Our Business is to improve your business.\n Come as a Visi
 tor to our next SBA breakfast meeting and we will give you a warm welc
 ome!\n \nThe SBA also run many business networking events, from boat 
 trips and cocktail evenings to barbeques which enables great business 
 interaction in a relaxed atmosphere, which only networking events can 
 provide.\n\nThe SBA is a not-for-profit association (see more informat
 ion here).\nAll fees are used to promote the members’ businesses.\nN
 o long contracts or commitment.\nSimply pay per month and leave when y
 ou want to.\nOnly one person from each profession joins the associatio
 n which protects the members from competition.\nRun by a leadership te
 am of members.\nGreatly reduced costs for all networking events\n\nCOS
 T: £10 meeting fee (including breakfast)\nBOOKING: Please CLICK HERE
  to contact us and book in as a Visitor on our website or RSVP to Ja
 mie 07791 625108 jamiefranklyn@citylocal.co.uk so we know how many t
 o cater for.\nFree Parking\nMAP\n\nFor more information visit https://
 networkinginsurrey.co.uk/events/sba-business-breakfast-network-staines
 -upon-thames-1
DTSTART;TZID=Europe/London:20130508T070000
DTEND;TZID=Europe/London:20130508T083000
CATEGORIES:business, referrals
LOCATION:The Thames Club
WEBSITE:http://www.citylocal.co.uk/Staines/Business-Networking-in-Stai
 nes/Spelthorne-Business-Association/TW18-2PD/b-lh9s/
URL:http://www.citylocal.co.uk/Staines/Business-Networking-in-Staines/
 Spelthorne-Business-Association/TW18-2PD/b-lh9s/
CONTACT:07791625108
ORGANIZER;CN="Jamie Franklyn":https://networkinginsurrey.co.uk/profile
 /JamieFranklyn
ATTACH;FMTTYPE="image/jpeg":http://storage.ning.com/topology/rest/1.0/
 file/get/2591407707?profile=original
ATTENDEE;ROLE=REQ-PARTICIPANT;PARTSTAT=ACCEPTED;RSVP=TRUE;CN="Jamie Fr
 anklyn":https://networkinginsurrey.co.uk/profile/JamieFranklyn
END:VEVENT
END:VCALENDAR
