BEGIN:VCALENDAR
PRODID:NingEventWidget-v1
VERSION:2.0
METHOD:PUBLISH
BEGIN:VTIMEZONE
TZID:Europe/London
X-LIC-LOCATION:Europe/London
BEGIN:DAYLIGHT
TZOFFSETFROM:+0000
TZOFFSETTO:+0100
TZNAME:BST
DTSTART:19700329T010000
RRULE:FREQ=YEARLY;BYMONTH=3;BYDAY=-1SU
END:DAYLIGHT
BEGIN:STANDARD
TZOFFSETFROM:+0100
TZOFFSETTO:+0000
TZNAME:GMT
DTSTART:19701025T020000
RRULE:FREQ=YEARLY;BYMONTH=10;BYDAY=-1SU
END:STANDARD
END:VTIMEZONE
BEGIN:VEVENT
UID:4626108:Event:74026
DTSTAMP:20260426T032347Z
SUMMARY:Rushmoor Networking for Entrepreneurs
DESCRIPTION:Farnborough Networking for Entrepreneurs\n\n\nAre you an e
 ntrepreneur looking to make contacts in the local area an beyond?\nAre
  you looking for new suppliers who you can get to know, like and trust
 ? \nDo you want to hear from a guest speaker each month who can add v
 alue to your business?\n\nWelcome to Rushmoor Networking for Entrepren
 eurs.\nWe are a team of business owners and employees looking to stren
 gthen our contacts and help you make new ones!\nWe'd like to invite yo
 u to our next networking event on Wednesday 16th September\nMike Peat
 es of Owow Chocolates will be our guest speaker.\n“For 25 years Mi
 ke was a serial banker! Working at both NatWest and HSBC before decidi
 ng to start his own chocolate business with a product which he ‘inve
 nted’ and brought to market. In two years Owow Chocolates has grown 
 a client list most businesses would be envious of and includes O2, Vir
 gin Atlantic Cargo and American Express”.\nThis event is included in
  thebestof Aldershot and Farnborough's membership, so if you're a memb
 er your can book free of charge.\nFor more information please give us
  a call on 01252 217101.\nCOST: Tickets are just £10 which include
 s buffet breakfast, tea and coffee.(Free to bestof Member businesses!)
 \nBOOKING: Please CLICK HERE to book your place\nMAP\n--------------
 -------------------------\nThis event is bought to you by:\n\n\n\nFor 
 more information visit https://networkinginsurrey.co.uk/events/rushmoo
 r-networking-for-entrepreneurs
DTSTART;TZID=Europe/London:20150916T083000
DTEND;TZID=Europe/London:20150916T103000
CATEGORIES:networking
LOCATION:RBS, 200 Fowler Avenue, Farnborough, GU14 7JP
WEBSITE:
URL:
CONTACT:01252 217101
ORGANIZER;CN="Carly Baker":https://networkinginsurrey.co.uk/profile/Ca
 rlyBaker
ATTACH;FMTTYPE="image/jpeg":http://storage.ning.com/topology/rest/1.0/
 file/get/2591447379?profile=original
ATTENDEE;ROLE=REQ-PARTICIPANT;PARTSTAT=ACCEPTED;RSVP=TRUE;CN="Carly Ba
 ker":https://networkinginsurrey.co.uk/profile/CarlyBaker
END:VEVENT
END:VCALENDAR
