BEGIN:VCALENDAR
PRODID:NingEventWidget-v1
VERSION:2.0
METHOD:PUBLISH
BEGIN:VTIMEZONE
TZID:Europe/London
X-LIC-LOCATION:Europe/London
BEGIN:DAYLIGHT
TZOFFSETFROM:+0000
TZOFFSETTO:+0100
TZNAME:BST
DTSTART:19700329T010000
RRULE:FREQ=YEARLY;BYMONTH=3;BYDAY=-1SU
END:DAYLIGHT
BEGIN:STANDARD
TZOFFSETFROM:+0100
TZOFFSETTO:+0000
TZNAME:GMT
DTSTART:19701025T020000
RRULE:FREQ=YEARLY;BYMONTH=10;BYDAY=-1SU
END:STANDARD
END:VTIMEZONE
BEGIN:VEVENT
UID:4626108:Event:13713
DTSTAMP:20260422T131100Z
SUMMARY:ROYAL WEDDING BANK HOLIDAY
DESCRIPTION: \nGet the teapot and Union Jacks out - or watch it on 
 the big screen in the pub garden. Keep a hanky handy if you're of a te
 arful disposition...\n (It was such a beautiful wedding - even the ca
 ke was in tiers :0)\nIT'S A DAY OFF - Yippee! (Watch the rehearsal for
  the Big Day here on YouTube)\n\n\nFor more information visit https://
 networkinginsurrey.co.uk/events/royal-wedding-bank-holiday
DTSTART;TZID=Europe/London:20110429T000000
DTEND;TZID=Europe/London:20110429T235900
CATEGORIES:bank, holiday, friday
LOCATION:Your place...
WEBSITE:
URL:
CONTACT:
ORGANIZER:You
ATTACH;FMTTYPE="image/jpeg":http://storage.ning.com/topology/rest/1.0/
 file/get/2591392685?profile=original
ATTENDEE;ROLE=REQ-PARTICIPANT;PARTSTAT=ACCEPTED;RSVP=TRUE;CN="Keith Gr
 over, NiS Founder":https://networkinginsurrey.co.uk/profile/KeithGrove
 r
END:VEVENT
END:VCALENDAR
