BEGIN:VCALENDAR
PRODID:NingEventWidget-v1
VERSION:2.0
METHOD:PUBLISH
BEGIN:VTIMEZONE
TZID:Europe/London
X-LIC-LOCATION:Europe/London
BEGIN:DAYLIGHT
TZOFFSETFROM:+0000
TZOFFSETTO:+0100
TZNAME:BST
DTSTART:19700329T010000
RRULE:FREQ=YEARLY;BYMONTH=3;BYDAY=-1SU
END:DAYLIGHT
BEGIN:STANDARD
TZOFFSETFROM:+0100
TZOFFSETTO:+0000
TZNAME:GMT
DTSTART:19701025T020000
RRULE:FREQ=YEARLY;BYMONTH=10;BYDAY=-1SU
END:STANDARD
END:VTIMEZONE
BEGIN:VEVENT
UID:4626108:Event:64676
DTSTAMP:20260420T072802Z
SUMMARY:Riverboat Shuffle Evening Charity Cruise, Kingston
DESCRIPTION:Join us for THE Kingston Event of 2014!\nStep aboard for a
 n elegant evening of forbidden fun, Lize jazz and unrivaled entertainm
 ent\nDress Code: Stylish Gents & Glamorous Gals for a 1920′s night t
 o remember\n\nAll profits from this event will go to Love Kingston our
  chosen charity for 2013/14\nOur vision is of a strong and generous co
 mmunity – where residents, businesses, community groups and governme
 nt act collectively to create a fair and good society for all who live
  or work in the borough.\nIt is easy to forget about the thousands of
  residents left on the margins. Wealth and poverty live side by side, 
 with middle class terraces, green spaces and trendy high streets blend
 ing into run-down estates and empty playgrounds.\nLove Kingston is an 
 exciting new charitable venture responding over time to the changing n
 eeds of local people. Please click here to read the Love Kingston bro
 chure.\nThe Love Kingston fundraising campaign is part of Kingston Vol
 untary Action’s (KVA’s) Transforming Kingston’s Infrastructure p
 roject, funded by the Big Fund on behalf of the Office for Civil Socie
 ty.\nCOST:  £45 or 4 Tickets for £170, 8 for £330 Includes buff
 et and welcome drinks - Cash bar on board\nBOOKING: Please CLICK HERE
  to book\nMAP\n\nFor more information visit https://networkinginsurre
 y.co.uk/events/riverboat-shuffle
DTSTART;TZID=Europe/London:20140501T190000
DTEND;TZID=Europe/London:20140501T230000
CATEGORIES:fundraiser, evening, kingston
LOCATION:Turk's Pier KT1 1PX
WEBSITE:http://www.kingstonchamber.co.uk/events/riverboat-shuffle/
URL:http://www.kingstonchamber.co.uk/events/riverboat-shuffle/
CONTACT:020 8541 4441
ORGANIZER;CN="Amanda McLoughlin":https://networkinginsurrey.co.uk/prof
 ile/AmandaMellett667
ATTACH;FMTTYPE="image/jpeg":http://storage.ning.com/topology/rest/1.0/
 file/get/2591429067?profile=original
ATTENDEE;ROLE=REQ-PARTICIPANT;PARTSTAT=ACCEPTED;RSVP=TRUE;CN="Amanda M
 cLoughlin":https://networkinginsurrey.co.uk/profile/AmandaMellett667
END:VEVENT
END:VCALENDAR
