BEGIN:VCALENDAR
PRODID:NingEventWidget-v1
VERSION:2.0
METHOD:PUBLISH
BEGIN:VTIMEZONE
TZID:Europe/London
X-LIC-LOCATION:Europe/London
BEGIN:DAYLIGHT
TZOFFSETFROM:+0000
TZOFFSETTO:+0100
TZNAME:BST
DTSTART:19700329T010000
RRULE:FREQ=YEARLY;BYMONTH=3;BYDAY=-1SU
END:DAYLIGHT
BEGIN:STANDARD
TZOFFSETFROM:+0100
TZOFFSETTO:+0000
TZNAME:GMT
DTSTART:19701025T020000
RRULE:FREQ=YEARLY;BYMONTH=10;BYDAY=-1SU
END:STANDARD
END:VTIMEZONE
BEGIN:VEVENT
UID:4626108:Event:97674
DTSTAMP:20260423T040645Z
SUMMARY:Ripley Connections Lunch, East Horsley
DESCRIPTION:Ripley Connections at Horsley Estate  \n\nHeld on a month
 ly basis near Guildford, business support and networking group, Ripley
  Connections has become an essential part of many local business owner
 s’ network marketing strategies, helping people build lasting, profi
 table contacts with like-minded entrepreneurs.\nWith more than 20 regu
 lar members, Ripley Connections represents a wide and diverse range of
  businesses and industries, ranging from builders to financial service
 s; IT support to marketing. Only one person from each profession is re
 presented to ensure no conflict within the group and maximise the bene
 fits of membership.\nCommitted to helping each other to grow and succe
 ed through recommendations and referrals, Ripley Connections’ meetin
 g format provides each member the opportunity to network with their fe
 llow members and guests, and present their business during a one-minut
 e presentation.\nBusiness owners can also promote their offering in gr
 eater depth during allocated five-minute presentations.\nBy networking
  in a relaxed, informal environment, members:\n\nHave the opportunity 
 to get to know their fellow members\nReceive support from the group\nE
 ngage with suppliers they can trust\nShare business contacts and oppor
 tunities\nFeel no pressure to refer business, ensuring only high quali
 ty leads\nHave a good time \n\nWant to visit a friendly, relaxed grou
 p? Then Ripley Connections is definitely the group for you !\nOrganise
 r for this group are Sally Castro Gouveia and Abbie Sell. \nCOST: £2
 2 meeting fee including lunch\nBOOKING: Please CLICK HERE to book or 
 for more info please contact Sally on 07525 738758 or email: sally@co
 nnectsurrey.uk\nMAP\nWhen you go through the barrier you can park in t
 he 1st car park on the right or if you drive further on you can park o
 n the grass. Then cross the road and walk into the main building and r
 eception will advise you which room we are in. \n\n\nFor more informa
 tion visit https://networkinginsurrey.co.uk/events/ripley-connections-
 lunch-east-horsley-9
DTSTART;TZID=Europe/London:20180508T110000
DTEND;TZID=Europe/London:20180508T130000
CATEGORIES:lunch, networking
LOCATION:De Vere Horsley Park KT24 6DT
WEBSITE:https://connectsurrey.uk/events/ripley-connections-2018-05-08/
URL:https://connectsurrey.uk/events/ripley-connections-2018-05-08/
CONTACT:07525 738758
ORGANIZER;CN="Sally Castro Gouveia":https://networkinginsurrey.co.uk/p
 rofile/SallyCastroGouveia
ATTACH;FMTTYPE="image/jpeg":http://storage.ning.com/topology/rest/1.0/
 file/get/2591472430?profile=original
ATTENDEE;ROLE=REQ-PARTICIPANT;PARTSTAT=ACCEPTED;RSVP=TRUE;CN="Sally Ca
 stro Gouveia":https://networkinginsurrey.co.uk/profile/SallyCastroGouv
 eia
END:VEVENT
END:VCALENDAR
