BEGIN:VCALENDAR
PRODID:NingEventWidget-v1
VERSION:2.0
METHOD:PUBLISH
BEGIN:VTIMEZONE
TZID:Europe/London
X-LIC-LOCATION:Europe/London
BEGIN:DAYLIGHT
TZOFFSETFROM:+0000
TZOFFSETTO:+0100
TZNAME:BST
DTSTART:19700329T010000
RRULE:FREQ=YEARLY;BYMONTH=3;BYDAY=-1SU
END:DAYLIGHT
BEGIN:STANDARD
TZOFFSETFROM:+0100
TZOFFSETTO:+0000
TZNAME:GMT
DTSTART:19701025T020000
RRULE:FREQ=YEARLY;BYMONTH=10;BYDAY=-1SU
END:STANDARD
END:VTIMEZONE
BEGIN:VEVENT
UID:4626108:Event:98036
DTSTAMP:20260422T165233Z
SUMMARY:Richmond Connections Evening at Twickenham Studios
DESCRIPTION:Richmond Connections Evening at Twickenham Studios\r\n\r\n
 Meet with up to 60 like-minded business owners in the chic surrounding
 s of The Lounge, the exclusive private members club at Twickenham Stud
 ios.\r\nAs well as making fruitful new connections in your local busin
 ess community, it's an opportunity to discover this hidden gem of a ve
 nue in St Margarets.\r\n\r\nLocated on the top floor, its stunning roo
 f terrace offers panoramic views of Richmond Park and the surrounding 
 area. It's the perfect setting for a relaxed evening of drinks, canapÃ
 ©s and networking.\r\nCOST:Â Â£20 per person.\r\nBOOKING: Please CLICK
  HERE to book\r\nÂ Â https://richmondconnections.co.uk/twickenham-stud
 ios/\r\nMAP\r\n--------------------------\r\nFEEDBACK FROM PREVIOUS EV
 ENTS:\r\n\r\n\"Jovial atmosphere, friendly people, lots of laughs, mut
 ual empathy as mostly self-employed like me, experienced and professio
 nal hosts, great setting...\"\r\nDavid McGeachie Propery Sales, Estate
  agent\r\n\"A splendid evening in interesting company, excellent venue
 , well organised, inspiring contacts. Business focused but very relaxe
 d\"\r\nVC Design Architectural Services, Architectural and interior De
 sign\r\n\"Great to meet new people and make new connections - a lot of
  my networking often involves the same people so it was really benefic
 ial to my business.\"\r\nSeed Accounting Solutions, Accountancy and Bo
 okkeeping Practice\r\n\"Was a great night and got to meet some like mi
 nded people who I hope to be working with in the not to distant future
 .\"\r\nPixel Panda Ltd, Photography / Video Editing\r\n\"Really enjoye
 d the event and met some very interesting people. I think there is a g
 ood chance that we will get additional business as a result.\"\r\nBent
 ley Pugh & Associates, Surveyors\n\nFor more information visit https:/
 /networkinginsurrey.co.uk/events/richmond-connections-at-the-lounge-tw
 ickenham-studios
DTSTART;TZID=Europe/London:20180522T183000
DTEND;TZID=Europe/London:20180522T203000
CATEGORIES:networking
LOCATION:The Lounge, Twickenham Studios TW1 2AW
WEBSITE:https://richmondconnections.co.uk/twickenham-studios/
URL:https://richmondconnections.co.uk/twickenham-studios/
CONTACT:020 3002 4100
ORGANIZER:Richmond Connections
ATTACH;FMTTYPE="image/jpeg":http://storage.ning.com/topology/rest/1.0/
 file/get/2591471418?profile=original
ATTENDEE;ROLE=REQ-PARTICIPANT;PARTSTAT=ACCEPTED;RSVP=TRUE;CN="Nick Tai
 mitarha":https://networkinginsurrey.co.uk/profile/NickTaimitarha
END:VEVENT
END:VCALENDAR
