BEGIN:VCALENDAR
PRODID:NingEventWidget-v1
VERSION:2.0
METHOD:PUBLISH
BEGIN:VTIMEZONE
TZID:Europe/London
X-LIC-LOCATION:Europe/London
BEGIN:DAYLIGHT
TZOFFSETFROM:+0000
TZOFFSETTO:+0100
TZNAME:BST
DTSTART:19700329T010000
RRULE:FREQ=YEARLY;BYMONTH=3;BYDAY=-1SU
END:DAYLIGHT
BEGIN:STANDARD
TZOFFSETFROM:+0100
TZOFFSETTO:+0000
TZNAME:GMT
DTSTART:19701025T020000
RRULE:FREQ=YEARLY;BYMONTH=10;BYDAY=-1SU
END:STANDARD
END:VTIMEZONE
BEGIN:VEVENT
UID:4626108:Event:528781
DTSTAMP:20260420T101103Z
SUMMARY:FREE Epsom Business Club Breakfast Time Online
DESCRIPTION:\r\nEpsom Business Club Breakfast Time Online\r\n\r\n\r\n\
 r\n\r\n\r\nDo you own or manage a business in the Epsom & Ewell area o
 r the neighbouring districts?\r\nOur goal is simple – to bring toget
 her like-minded business people to meet new people, develop connection
 s and most importantly, do business.\r\nEpsom Business Club networking
  is open all business owners, managers or other professionals that are
  looking to grow their network in the local area across the South East
  and into South London.\r\nInformal meetings are held within the Epsom
  area and online. Why not come along and meet other professionals?\r\n
 What ever business you are in, you will be made very welcome.\r\n\r\n\
 r\n\r\nWe meet on the third Thursday of every month, online via Zoom.\
 r\nEveryone is given the chance to tell us about their business and wh
 at they do, plus we have a featured speaker from the members talking o
 n a topic or subject they are expert in.\r\nRemember, it’s free to j
 oin while we are online, so why not give it a try?\r\nCOST: FREE while
  online\r\nBOOKING: Please BOOK YOUR PLACE here\r\n\r\n\r\n\r\n\r\n\r\
 n\n\nFor more information visit https://networkinginsurrey.co.uk/event
 s/richard-excell
DTSTART;TZID=Europe/London:20210916T080000
DTEND;TZID=Europe/London:20210916T220000
CATEGORIES:business, networking
LOCATION:Epsom
WEBSITE:https://epsombusiness.club
URL:https://epsombusiness.club
CONTACT:01273 964065
ORGANIZER;CN="Richard Excell":https://networkinginsurrey.co.uk/profile
 /RichardExcell
ATTACH;FMTTYPE="image/jpeg":https://storage.ning.com/topology/rest/1.0
 /file/get/9562989872?profile=original
ATTENDEE;ROLE=REQ-PARTICIPANT;PARTSTAT=ACCEPTED;RSVP=TRUE;CN="Richard 
 Excell":https://networkinginsurrey.co.uk/profile/RichardExcell
END:VEVENT
END:VCALENDAR
