BEGIN:VCALENDAR
PRODID:NingEventWidget-v1
VERSION:2.0
METHOD:PUBLISH
BEGIN:VTIMEZONE
TZID:Europe/London
X-LIC-LOCATION:Europe/London
BEGIN:DAYLIGHT
TZOFFSETFROM:+0000
TZOFFSETTO:+0100
TZNAME:BST
DTSTART:19700329T010000
RRULE:FREQ=YEARLY;BYMONTH=3;BYDAY=-1SU
END:DAYLIGHT
BEGIN:STANDARD
TZOFFSETFROM:+0100
TZOFFSETTO:+0000
TZNAME:GMT
DTSTART:19701025T020000
RRULE:FREQ=YEARLY;BYMONTH=10;BYDAY=-1SU
END:STANDARD
END:VTIMEZONE
BEGIN:VEVENT
UID:4626108:Event:535910
DTSTAMP:20260421T014243Z
SUMMARY:FREE RH Networking Live! Speed Networking Evening
DESCRIPTION:RH Networking Evening in-person at Harlequin Theatre Redhi
 ll \r\nJoin us for some informal speed networking with businesses loca
 ted in or near the RH postcode area. \r\nGrow your business network a
 nd meet other local business owners.\r\nThis free event is open to all
  business owners and senior managers that serve the RH postcode area.\
 r\nSign up today....did we mention it's FREE?\r\nSpaces are limited, s
 o don't delay.\r\nCOST: FREE \r\nBOOKING:  Please CLICK HERE to b
 ook your free place\r\nMAP\r\n\r\n\n\nFor more information visit https
 ://networkinginsurrey.co.uk/events/rh-networking-speed-networking
DTSTART;TZID=Europe/London:20230330T183000
DTEND;TZID=Europe/London:20230330T213000
CATEGORIES:business, networking, evening, redhill
LOCATION:The Harlequin Theatre - Redhill
WEBSITE:https://www.eventbrite.co.uk/e/rh-networking-speed-networking-
 event-tickets-515977902797
URL:https://www.eventbrite.co.uk/e/rh-networking-speed-networking-even
 t-tickets-515977902797
CONTACT:
ORGANIZER;CN="Dan Reynolds":https://networkinginsurrey.co.uk/profile/D
 anReynolds
ATTACH;FMTTYPE="image/jpeg":https://storage.ning.com/topology/rest/1.0
 /file/get/10934248087?profile=original
ATTENDEE;ROLE=REQ-PARTICIPANT;PARTSTAT=ACCEPTED;RSVP=TRUE;CN="Dan Reyn
 olds":https://networkinginsurrey.co.uk/profile/DanReynolds
ATTENDEE;ROLE=REQ-PARTICIPANT;PARTSTAT=TENTATIVE;RSVP=TRUE;CN="Jamie M
 organ":https://networkinginsurrey.co.uk/profile/JamieMorgan
END:VEVENT
END:VCALENDAR
