BEGIN:VCALENDAR
PRODID:NingEventWidget-v1
VERSION:2.0
METHOD:PUBLISH
BEGIN:VTIMEZONE
TZID:Europe/London
X-LIC-LOCATION:Europe/London
BEGIN:DAYLIGHT
TZOFFSETFROM:+0000
TZOFFSETTO:+0100
TZNAME:BST
DTSTART:19700329T010000
RRULE:FREQ=YEARLY;BYMONTH=3;BYDAY=-1SU
END:DAYLIGHT
BEGIN:STANDARD
TZOFFSETFROM:+0100
TZOFFSETTO:+0000
TZNAME:GMT
DTSTART:19701025T020000
RRULE:FREQ=YEARLY;BYMONTH=10;BYDAY=-1SU
END:STANDARD
END:VTIMEZONE
BEGIN:VEVENT
UID:4626108:Event:539203
DTSTAMP:20260421T015346Z
SUMMARY:RH Networking - Special Evening Event, Reigate
DESCRIPTION:RH Networking Special Evening Event at the Reigate Manor\r
 \n\r\nWelcome to our second Special Event of 2023!\r\nOur Speed Networ
 king in March was a huge success, but we are trying something new once
  again. The 21st September will be a combination of networking and spe
 cial presentation.\r\nIf you want to grow your business and be inspire
 d to push yourself beyond what you thought was possible, then this eve
 nt is for you.\r\nMeet other local business owners and our presentatio
 n speaker....Jonathan!\r\nYou won't be disappointed.\r\nCOST: £23 (E
 arlybird £15)  to Members and First-time Visitors \r\nBOOKING: Pl
 ease CLICK HERE to book your place\r\nMAP\n\nFor more information visi
 t https://networkinginsurrey.co.uk/events/rh-networking-special-event
DTSTART;TZID=Europe/London:20230921T190000
DTEND;TZID=Europe/London:20230921T220000
CATEGORIES:networking, and, motivational, speaker
LOCATION:Reigate Manor Hotel H2 9PF
WEBSITE:https://www.rhnetworking.co.uk/specialevent2
URL:https://www.rhnetworking.co.uk/specialevent2
CONTACT:
ORGANIZER;CN="Dan Reynolds":https://networkinginsurrey.co.uk/profile/D
 anReynolds
ATTACH;FMTTYPE="image/jpeg":https://storage.ning.com/topology/rest/1.0
 /file/get/12178365501?profile=original
ATTENDEE;ROLE=REQ-PARTICIPANT;PARTSTAT=ACCEPTED;RSVP=TRUE;CN="Dan Reyn
 olds":https://networkinginsurrey.co.uk/profile/DanReynolds
END:VEVENT
END:VCALENDAR
