BEGIN:VCALENDAR
PRODID:NingEventWidget-v1
VERSION:2.0
METHOD:PUBLISH
BEGIN:VTIMEZONE
TZID:Europe/London
X-LIC-LOCATION:Europe/London
BEGIN:DAYLIGHT
TZOFFSETFROM:+0000
TZOFFSETTO:+0100
TZNAME:BST
DTSTART:19700329T010000
RRULE:FREQ=YEARLY;BYMONTH=3;BYDAY=-1SU
END:DAYLIGHT
BEGIN:STANDARD
TZOFFSETFROM:+0100
TZOFFSETTO:+0000
TZNAME:GMT
DTSTART:19701025T020000
RRULE:FREQ=YEARLY;BYMONTH=10;BYDAY=-1SU
END:STANDARD
END:VTIMEZONE
BEGIN:VEVENT
UID:4626108:Event:409457
DTSTAMP:20260421T174554Z
SUMMARY:FREE RH Networking Coffee Time Online
DESCRIPTION:FREE RH Morning Networking\r\n\r\nWe are going online! RH 
 Networking is hosting our first ever online networking event.\r\nJoin 
 us on Tuesday 13th October at 11am and meet other business owners from
  the RH Postcode area. \r\nYou must be located within the RH postcode
  area, or be able to service the RH postcodes to be eligible to join t
 his online event.\r\nCOST: FREE\r\nBOOKING: Please CLICK HERE to re
 gister\r\n\n\nFor more information visit https://networkinginsurrey.co
 .uk/events/rh-networking-online-edition
DTSTART;TZID=Europe/London:20201013T110000
DTEND;TZID=Europe/London:20201013T120000
CATEGORIES:business, networking
LOCATION:In front of your pc/laptop/phone
WEBSITE:
URL:
CONTACT:
ORGANIZER;CN="Dan Reynolds":https://networkinginsurrey.co.uk/profile/D
 anReynolds
ATTACH;FMTTYPE="image/jpeg":https://storage.ning.com/topology/rest/1.0
 /file/get/7914046856?profile=original
ATTENDEE;ROLE=REQ-PARTICIPANT;PARTSTAT=ACCEPTED;RSVP=TRUE;CN="Dan Reyn
 olds":https://networkinginsurrey.co.uk/profile/DanReynolds
END:VEVENT
END:VCALENDAR
