BEGIN:VCALENDAR
PRODID:NingEventWidget-v1
VERSION:2.0
METHOD:PUBLISH
BEGIN:VTIMEZONE
TZID:Europe/London
X-LIC-LOCATION:Europe/London
BEGIN:DAYLIGHT
TZOFFSETFROM:+0000
TZOFFSETTO:+0100
TZNAME:BST
DTSTART:19700329T010000
RRULE:FREQ=YEARLY;BYMONTH=3;BYDAY=-1SU
END:DAYLIGHT
BEGIN:STANDARD
TZOFFSETFROM:+0100
TZOFFSETTO:+0000
TZNAME:GMT
DTSTART:19701025T020000
RRULE:FREQ=YEARLY;BYMONTH=10;BYDAY=-1SU
END:STANDARD
END:VTIMEZONE
BEGIN:VEVENT
UID:4626108:Event:529197
DTSTAMP:20260419T225755Z
SUMMARY:RH Networking Evening LIVE! East Grinstead
DESCRIPTION:RH Networking - Evening venue based Event\r\n\r\nJoin us f
 or some informal networking, with businesses located in or near the RH
  postcode area. \r\nRH Evening is an informal networking event held e
 ach month in a different area across the RH Postcode.\r\nNo 60 second 
 pitches, no referral targets, no red flags, and no restrictions on bus
 iness types. Just local business people getting together and having a 
 chat.\r\nEach event has as sponsor, who gets to speak a little about w
 hat they do.  Novembers Sponsor is Delta Security Management.\r\nIf y
 ou want to grow your business network, but don’t want any rules and 
 restrictions, then we’re the group for you.\r\nCOST: £3.99 for non
 -members (or join as a member - JOIN HERE)\r\nBOOKING: Please CLICK H
 ERE to book your place\r\nMAP\n\nFor more information visit https://n
 etworkinginsurrey.co.uk/events/rh-networking-evening-live-east-grinste
 ad
DTSTART;TZID=Europe/London:20211130T190000
DTEND;TZID=Europe/London:20211130T203000
CATEGORIES:networking
LOCATION:Meridian Hall - East Grinstead
WEBSITE:https://www.eastgrinstead.gov.uk/east-court/bookings/meridian-
 hall/
URL:https://www.eastgrinstead.gov.uk/east-court/bookings/meridian-hall
 /
CONTACT:
ORGANIZER;CN="Dan Reynolds":https://networkinginsurrey.co.uk/profile/D
 anReynolds
ATTACH;FMTTYPE="image/jpeg":https://storage.ning.com/topology/rest/1.0
 /file/get/9639051080?profile=original
ATTENDEE;ROLE=REQ-PARTICIPANT;PARTSTAT=ACCEPTED;RSVP=TRUE;CN="Dan Reyn
 olds":https://networkinginsurrey.co.uk/profile/DanReynolds
END:VEVENT
END:VCALENDAR
