BEGIN:VCALENDAR
PRODID:NingEventWidget-v1
VERSION:2.0
METHOD:PUBLISH
BEGIN:VTIMEZONE
TZID:Europe/London
X-LIC-LOCATION:Europe/London
BEGIN:DAYLIGHT
TZOFFSETFROM:+0000
TZOFFSETTO:+0100
TZNAME:BST
DTSTART:19700329T010000
RRULE:FREQ=YEARLY;BYMONTH=3;BYDAY=-1SU
END:DAYLIGHT
BEGIN:STANDARD
TZOFFSETFROM:+0100
TZOFFSETTO:+0000
TZNAME:GMT
DTSTART:19701025T020000
RRULE:FREQ=YEARLY;BYMONTH=10;BYDAY=-1SU
END:STANDARD
END:VTIMEZONE
BEGIN:VEVENT
UID:4626108:Event:531089
DTSTAMP:20260421T015315Z
SUMMARY:RH Networking Evening: Harlequin Theatre Redhill
DESCRIPTION:RH Networking Evening in-person at Harlequin Theatre Redhi
 ll\nJoin us for some informal networking, with businesses located in o
 r near the RH postcode area. \nRH Evening is an informal networking e
 vent held each month in a different area across the RH Postcode.\nNo 6
 0 second pitches, no referral targets, no red flags, and no restrictio
 ns on business types. Just local business people getting together and 
 having a chat.\nEach event has as sponsor, who gets to speak a little 
 about what they do.  This months Sponsor is: Olivia-Louise Hamilton 
 (Changing Minds Training)\nIf you want to grow your business network, 
 but don’t want any rules and restrictions, then we’re the group fo
 r you.\nCOST: FREE to Members and First-time Visitors \nBOOKING:  M
 embers CLICK HERE to book, Visitors please email info@rhnetworking.
 co.uk to try us for free\nMAP\n-------------\nRH Networking is a memb
 ers only group.  You can try out one event for free - or JOIN HERE\
 n\n\nFor more information visit https://networkinginsurrey.co.uk/event
 s/rh-networking-evening-harlequin-theatre-redhill
DTSTART;TZID=Europe/London:20220224T190000
DTEND;TZID=Europe/London:20220224T203000
CATEGORIES:networking
LOCATION:Harlequin Theatre
WEBSITE:https://harlequintheatre.co.uk/
URL:https://harlequintheatre.co.uk/
CONTACT:
ORGANIZER;CN="Dan Reynolds":https://networkinginsurrey.co.uk/profile/D
 anReynolds
ATTACH;FMTTYPE="image/jpeg":https://storage.ning.com/topology/rest/1.0
 /file/get/9639051080?profile=original
ATTENDEE;ROLE=REQ-PARTICIPANT;PARTSTAT=ACCEPTED;RSVP=TRUE;CN="Dan Reyn
 olds":https://networkinginsurrey.co.uk/profile/DanReynolds
END:VEVENT
END:VCALENDAR
