BEGIN:VCALENDAR
PRODID:NingEventWidget-v1
VERSION:2.0
METHOD:PUBLISH
BEGIN:VTIMEZONE
TZID:Europe/London
X-LIC-LOCATION:Europe/London
BEGIN:DAYLIGHT
TZOFFSETFROM:+0000
TZOFFSETTO:+0100
TZNAME:BST
DTSTART:19700329T010000
RRULE:FREQ=YEARLY;BYMONTH=3;BYDAY=-1SU
END:DAYLIGHT
BEGIN:STANDARD
TZOFFSETFROM:+0100
TZOFFSETTO:+0000
TZNAME:GMT
DTSTART:19701025T020000
RRULE:FREQ=YEARLY;BYMONTH=10;BYDAY=-1SU
END:STANDARD
END:VTIMEZONE
BEGIN:VEVENT
UID:4626108:Event:528511
DTSTAMP:20260421T014243Z
SUMMARY:RH Networking Coffee Time Online
DESCRIPTION:RH Networking - Bitesize with Heike\r\n\r\nJoin us for so
 me informal networking, with businesses located in or near the RH post
 code area. \r\nBitesize is a short 45 minute session with an expect s
 peaker.  This month the session is being hosted by Heike Knip.\r\nIf 
 you want to grow your business network, but don’t want any rules and
  restrictions, then we’re the group for you.\r\nCOST: FREE\r\nBOOKIN
 G: Please CLICK HERE to book your place\r\n\r\n\r\n\n\nFor more info
 rmation visit https://networkinginsurrey.co.uk/events/rh-networking-bi
 tesize-with-heike
DTSTART;TZID=Europe/London:20211116T093000
DTEND;TZID=Europe/London:20211116T101500
CATEGORIES:networking, "/", learning
LOCATION:Online
WEBSITE:
URL:
CONTACT:
ORGANIZER;CN="Dan Reynolds":https://networkinginsurrey.co.uk/profile/D
 anReynolds
ATTACH;FMTTYPE="image/jpeg":https://storage.ning.com/topology/rest/1.0
 /file/get/8716961074?profile=original
ATTENDEE;ROLE=REQ-PARTICIPANT;PARTSTAT=ACCEPTED;RSVP=TRUE;CN="Dan Reyn
 olds":https://networkinginsurrey.co.uk/profile/DanReynolds
END:VEVENT
END:VCALENDAR
