BEGIN:VCALENDAR
PRODID:NingEventWidget-v1
VERSION:2.0
METHOD:PUBLISH
BEGIN:VTIMEZONE
TZID:Europe/London
X-LIC-LOCATION:Europe/London
BEGIN:DAYLIGHT
TZOFFSETFROM:+0000
TZOFFSETTO:+0100
TZNAME:BST
DTSTART:19700329T010000
RRULE:FREQ=YEARLY;BYMONTH=3;BYDAY=-1SU
END:DAYLIGHT
BEGIN:STANDARD
TZOFFSETFROM:+0100
TZOFFSETTO:+0000
TZNAME:GMT
DTSTART:19701025T020000
RRULE:FREQ=YEARLY;BYMONTH=10;BYDAY=-1SU
END:STANDARD
END:VTIMEZONE
BEGIN:VEVENT
UID:4626108:Event:501406
DTSTAMP:20260421T073858Z
SUMMARY:FREE RH Networking Bitesize Coffee Time Online
DESCRIPTION:FREE RH Morning BItesize Networking - HR with Laura\r\n\r\
 nRH Bitesize is the latest offering from RH Networking. Bitesize (30-4
 0 minutes) sessions are led by an expect speaker.\r\nJoin Laura from F
 resh Solutions HR for an expert presentation from her perspective as a
 n HR Consultant. \r\nThese exclusive short sessions are limited to on
 ly twenty delegates.\r\nCOST: FREE \r\nBOOKING: Please CLICK HERE to r
 egister your free place\n\nFor more information visit https://networki
 nginsurrey.co.uk/events/rh-bitesize-hr-with-laura
DTSTART;TZID=Europe/London:20210223T093000
DTEND;TZID=Europe/London:20210223T101500
CATEGORIES:learning
LOCATION:online
WEBSITE:https://www.rhnetworking.co.uk/2021-events
URL:https://www.rhnetworking.co.uk/2021-events
CONTACT:
ORGANIZER;CN="Dan Reynolds":https://networkinginsurrey.co.uk/profile/D
 anReynolds
ATTACH;FMTTYPE="image/jpeg":https://storage.ning.com/topology/rest/1.0
 /file/get/8503531654?profile=original
ATTENDEE;ROLE=REQ-PARTICIPANT;PARTSTAT=ACCEPTED;RSVP=TRUE;CN="Dan Reyn
 olds":https://networkinginsurrey.co.uk/profile/DanReynolds
END:VEVENT
END:VCALENDAR
