BEGIN:VCALENDAR
PRODID:NingEventWidget-v1
VERSION:2.0
METHOD:PUBLISH
BEGIN:VTIMEZONE
TZID:Europe/London
X-LIC-LOCATION:Europe/London
BEGIN:DAYLIGHT
TZOFFSETFROM:+0000
TZOFFSETTO:+0100
TZNAME:BST
DTSTART:19700329T010000
RRULE:FREQ=YEARLY;BYMONTH=3;BYDAY=-1SU
END:DAYLIGHT
BEGIN:STANDARD
TZOFFSETFROM:+0100
TZOFFSETTO:+0000
TZNAME:GMT
DTSTART:19701025T020000
RRULE:FREQ=YEARLY;BYMONTH=10;BYDAY=-1SU
END:STANDARD
END:VTIMEZONE
BEGIN:VEVENT
UID:4626108:Event:364056
DTSTAMP:20260422T104025Z
SUMMARY:RESCHEDULED FREE Dorking Connections Breakfast Time Online
DESCRIPTION:Dorking Connections Online\r\nDUE TO VE DAY BANK HOLIDAY -
  WE'VE RESCHEDULED OUR DORKING MEETING...\r\nWe will continue with FOR
 TNIGHTLY meetings run by Paul Bridgland & Abbie Sell on a Virtual bas
 is using ZOOM software.  \r\nMeetings will commence at their normal 
 time and we would encourage you to join in if you can. It's not the sa
 me as being there, but .... desperate times require desperate measures
  and it keeps things going for now and allows you to maintain relation
 ships with your fellow members - as we all know, out of sight means ou
 t of mind!\r\n\r\nVisitors are welcome but meetings will be restricted
  to 35 Max with priority for members so please do join us but regist
 er early. If you are unable to join it will be because we have reached
  max capacity (there's no physical limit but we will all be doing 60 s
 ecs and it will take too long if the group is too large).\r\nBusiness 
 should be fun!\r\n\r\nCOST: FREE to take part - registration is essent
 ial please and priority will be given to Dorking Connections Members\r
 \nBOOKING: Please follow this link...  to register for the meeting\r
 \nCheck out our website here...\n\nFor more information visit https:/
 /networkinginsurrey.co.uk/events/rescheduled-free-dorking-connections-
 breakfast-time-online
DTSTART;TZID=Europe/London:20200513T083000
DTEND;TZID=Europe/London:20200513T100000
CATEGORIES:regular, business, networking, meeting
LOCATION:Online only
WEBSITE:
URL:
CONTACT:07799888388
ORGANIZER:Paul A Bridgland and Abbie Sell
ATTACH;FMTTYPE="image/jpeg":https://storage.ning.com/topology/rest/1.0
 /file/get/4169825346?profile=original
ATTENDEE;ROLE=REQ-PARTICIPANT;PARTSTAT=ACCEPTED;RSVP=TRUE;CN="Paul A B
 ridgland":https://networkinginsurrey.co.uk/profile/PaulABridgland
END:VEVENT
END:VCALENDAR
