BEGIN:VCALENDAR
PRODID:NingEventWidget-v1
VERSION:2.0
METHOD:PUBLISH
BEGIN:VTIMEZONE
TZID:Europe/London
X-LIC-LOCATION:Europe/London
BEGIN:DAYLIGHT
TZOFFSETFROM:+0000
TZOFFSETTO:+0100
TZNAME:BST
DTSTART:19700329T010000
RRULE:FREQ=YEARLY;BYMONTH=3;BYDAY=-1SU
END:DAYLIGHT
BEGIN:STANDARD
TZOFFSETFROM:+0100
TZOFFSETTO:+0000
TZNAME:GMT
DTSTART:19701025T020000
RRULE:FREQ=YEARLY;BYMONTH=10;BYDAY=-1SU
END:STANDARD
END:VTIMEZONE
BEGIN:VEVENT
UID:4626108:Event:4884
DTSTAMP:20260425T030637Z
SUMMARY:Remember - CLOCKS GO BACK...
DESCRIPTION:In AUTUMN the clocks 'Fall back' (and In SPRING they 'spri
 ng forward') and today 2 am becomes 1 am. So, will you spring out of b
 ed an hour 'earlier' than usual? Or get up at your normal time and enj
 oy the extra Sunday morning lie in... because you're worth it?!\n\n\nF
 ind out more about British Summer Time and lots more fascinating and u
 seful stuff here on the Woodlands Junior School Project Britain' websi
 te run by Mandy Barrow\n\nFor more information visit https://networkin
 ginsurrey.co.uk/events/remember-clocks-go-back
DTSTART;TZID=Europe/London:20101031T010000
DTEND;TZID=Europe/London:20101031T020000
CATEGORIES:clocks, change
LOCATION:Your place
WEBSITE:http://projectbritain.com/clocks.htm
URL:http://projectbritain.com/clocks.htm
CONTACT:
ORGANIZER;CN="Keith Grover, NiS Founder":https://networkinginsurrey.co
 .uk/profile/KeithGrover
ATTACH;FMTTYPE="image/jpeg":http://storage.ning.com/topology/rest/1.0/
 file/get/2591386471?profile=original
ATTENDEE;ROLE=REQ-PARTICIPANT;PARTSTAT=ACCEPTED;RSVP=TRUE;CN="Keith Gr
 over, NiS Founder":https://networkinginsurrey.co.uk/profile/KeithGrove
 r
END:VEVENT
END:VCALENDAR
