BEGIN:VCALENDAR
PRODID:NingEventWidget-v1
VERSION:2.0
METHOD:PUBLISH
BEGIN:VTIMEZONE
TZID:Europe/London
X-LIC-LOCATION:Europe/London
BEGIN:DAYLIGHT
TZOFFSETFROM:+0000
TZOFFSETTO:+0100
TZNAME:BST
DTSTART:19700329T010000
RRULE:FREQ=YEARLY;BYMONTH=3;BYDAY=-1SU
END:DAYLIGHT
BEGIN:STANDARD
TZOFFSETFROM:+0100
TZOFFSETTO:+0000
TZNAME:GMT
DTSTART:19701025T020000
RRULE:FREQ=YEARLY;BYMONTH=10;BYDAY=-1SU
END:STANDARD
END:VTIMEZONE
BEGIN:VEVENT
UID:4626108:Event:96697
DTSTAMP:20260423T040332Z
SUMMARY:RELAUNCH: Omni Local Breakfast, Wimbledon
DESCRIPTION:Omni Local Business Networking - Wimbledon Group\n\nIf you
  own your own business or work in an environment where you need to fin
 d long term new clients or customers then you have found an easy way t
 o do this!\nOn top of this you can come to one of our FREE Seminars af
 ter the breakfast meeting!\nCome and meet the Omni Wimbledon Team: Mar
 y Bautista-Harman and Gill Sepe.We get booked up in advance, so plea
 se reserve your place early!!!\nMEETING FORMAT -\n07:30 - Open Network
 ing & Registration Best to get there early! 07:45 - Breakfast is serve
 d & Opening of the meeting from the Group Director 07:50 - Start 1 Min
 ute Round  08:15 - End of 1 Minute Round 08:15 - 1-2-1 Meeting Set Up 
   Pick someone you might need to help your business or who can help y
 ours! 08:20 - Time for Pitch Platform & Question Time -If you want to 
 do this, you must be a member 08:30 - End of Question Time Use this ti
 me to get tips from an expert 08.35 - Start 1-2-1 Meeting  Please rem
 ember this a chance to get to know someone!  Don’t worry if you hav
 e not spoken to everyone. You’ll get a chance later. 08:50 - End 1-2
 -1 Meetings & Back to your spot 08:55 - Members & Networking Events  
 Please let us know if you have something coming up. We will tell every
 one. 09:00 - Time for TT&Ts! Tips, Testimonials and Thank You Time. Pl
 ease feel free to tell everyone about someone who has given you busine
 ss or someone you have worked with! 09:15 - Meeting Close - - Set Up f
 or Seminar & Refresh Coffees and Teas\n09:30 - 10:15 FREE Speed Semi
 nar \nFor more info - Please visit our website here...\nCOST: £12 m
 eeting fee including breakfast (cash on the door, pre-booking essentia
 l please!)\nBOOKING: Please CLICK HERE to register or send us an ema
 il to reserve your place - sales.omnilocal@gmail.com or call John on 
 07898 870 870\nMAP\n--------------------------------------\nFind more 
 Omni Local Networking Groups here on NiS...\n\nFor more information v
 isit https://networkinginsurrey.co.uk/events/relaunch-omni-local-break
 fast-wimbledon
DTSTART;TZID=Europe/London:20180320T073000
DTEND;TZID=Europe/London:20180320T091500
CATEGORIES:breakfast, weybridge, morden, b2b
LOCATION:The George Inn
WEBSITE:http://omnilocalbusinessnetworking.com/index.php/our-meetings/
 2016-03-23-10-44-44/by-date/9-twickenham-teddington-launch
URL:http://omnilocalbusinessnetworking.com/index.php/our-meetings/2016
 -03-23-10-44-44/by-date/9-twickenham-teddington-launch
CONTACT:07898 870 870
ORGANIZER:Mary Bautista-Harman and Gill Sepe
ATTACH;FMTTYPE="image/jpeg":http://storage.ning.com/topology/rest/1.0/
 file/get/2470856954?profile=original
ATTENDEE;ROLE=REQ-PARTICIPANT;PARTSTAT=ACCEPTED;RSVP=TRUE;CN="John Gow
 er":https://networkinginsurrey.co.uk/profile/John
END:VEVENT
END:VCALENDAR
