BEGIN:VCALENDAR
PRODID:NingEventWidget-v1
VERSION:2.0
METHOD:PUBLISH
BEGIN:VTIMEZONE
TZID:Europe/London
X-LIC-LOCATION:Europe/London
BEGIN:DAYLIGHT
TZOFFSETFROM:+0000
TZOFFSETTO:+0100
TZNAME:BST
DTSTART:19700329T010000
RRULE:FREQ=YEARLY;BYMONTH=3;BYDAY=-1SU
END:DAYLIGHT
BEGIN:STANDARD
TZOFFSETFROM:+0100
TZOFFSETTO:+0000
TZNAME:GMT
DTSTART:19701025T020000
RRULE:FREQ=YEARLY;BYMONTH=10;BYDAY=-1SU
END:STANDARD
END:VTIMEZONE
BEGIN:VEVENT
UID:4626108:Event:75708
DTSTAMP:20260425T185751Z
SUMMARY:FREE Reigate Tweetup
DESCRIPTION:Tweetup at The Prince!\nJoin us for a social evening, with
  no agenda.  , no formalities, for business people, freelancers, pare
 nts, community-focussed or anyone in/around/ passing/ staying/ moving 
 to the area really.\nCome out from behind the computer screens and mee
 t the people you've maybe met only online in the flesh.\nJust turn up 
 & buy your own drinks at the bar (no food I don't think on a Thurs now
  at POW just so you know!)\nWe are the 'social' for the Redhill Microp
 reneurs - look that up too!\nRedhill & Reigate Tweetups are monthly.\n
 \nBear in mind this is more of a social than a business networking eve
 nt - passing of business cards, if absolutely necessary, should be don
 e discreetly!!\nPlease CLICK HERE for more info...\n\nSee you there!
   Wendy Ager & Fiona Stewart\nCOST: FREE\nBOOKING: Just turn up & bu
 y your own drinks/food/nibble \nMAP\n\nFor more information visit htt
 ps://networkinginsurrey.co.uk/events/reigate-tweetup
DTSTART;TZID=Europe/London:20151202T193000
DTEND;TZID=Europe/London:20151202T223000
CATEGORIES:social, networking, community, fun
LOCATION:Prince of Wales, Reigate
WEBSITE:http://vite.io/RandRTweetups
URL:http://vite.io/RandRTweetups
CONTACT:07900 806571
ORGANIZER;CN="Wendy Ager":https://networkinginsurrey.co.uk/profile/Wen
 dyAger
ATTACH;FMTTYPE="image/jpeg":http://storage.ning.com/topology/rest/1.0/
 file/get/2591391815?profile=original
ATTENDEE;ROLE=REQ-PARTICIPANT;PARTSTAT=ACCEPTED;RSVP=TRUE;CN="Wendy Ag
 er":https://networkinginsurrey.co.uk/profile/WendyAger
ATTENDEE;ROLE=REQ-PARTICIPANT;PARTSTAT=ACCEPTED;RSVP=TRUE;CN="Stuart M
 cAlister":https://networkinginsurrey.co.uk/profile/StuartMcAlister
END:VEVENT
END:VCALENDAR
