BEGIN:VCALENDAR
PRODID:NingEventWidget-v1
VERSION:2.0
METHOD:PUBLISH
BEGIN:VTIMEZONE
TZID:Europe/London
X-LIC-LOCATION:Europe/London
BEGIN:DAYLIGHT
TZOFFSETFROM:+0000
TZOFFSETTO:+0100
TZNAME:BST
DTSTART:19700329T010000
RRULE:FREQ=YEARLY;BYMONTH=3;BYDAY=-1SU
END:DAYLIGHT
BEGIN:STANDARD
TZOFFSETFROM:+0100
TZOFFSETTO:+0000
TZNAME:GMT
DTSTART:19701025T020000
RRULE:FREQ=YEARLY;BYMONTH=10;BYDAY=-1SU
END:STANDARD
END:VTIMEZONE
BEGIN:VEVENT
UID:4626108:Event:75968
DTSTAMP:20260425T163713Z
SUMMARY:Redhill & Reigate Evening Tweetup
DESCRIPTION:Tweetup at Home Cottage Redhill\n\nJoin us for a social ev
 ening, with no agenda, no formalities, and bear in mind this is more o
 f a social than a business networking event - passing of business card
 s, if absolutely necessary, should be done discreetly!!\n Redhill & R
 eigate Tweetups started up again in Nov 2014.  It used to be a fairly
  regular meet-up in 2010/11.  This is a chance to catch up or meet up
  with those you would like to socialise with a little more and get to 
 know each other.<&nbsp> Come out from behind the screens and meet face
 -to-face!  All positive, friendly, sociable people are most welcome.\
 n There are lots lots of locals and freelancers, home-workers, and sm
 all business owners who come that have met online or at Business Netwo
 rking events, including the Redhill Micropreneurs group - for which th
 e Tweetup is now also their monthly social event.\nPlease CLICK HERE 
 FOR MORE INFO\nSee you there!  \n\nFiona Stewart & Wendy Ager \nCOS
 T: FREE\nBOOKING: Just turn up & buy your own drinks/food/nibble \nM
 AP\n\n\n\nFor more information visit https://networkinginsurrey.co.uk/
 events/redhill-reigate-tweetup-1
DTSTART;TZID=Europe/London:20160106T193000
DTEND;TZID=Europe/London:20160106T223000
CATEGORIES:social, networking, community, fun, business
LOCATION:Home Cottage,
WEBSITE:https://goo.gl/maps/dkrCaSExCZS2
URL:https://goo.gl/maps/dkrCaSExCZS2
CONTACT:07900 806571
ORGANIZER;CN="Wendy Ager":https://networkinginsurrey.co.uk/profile/Wen
 dyAger
ATTACH;FMTTYPE="image/jpeg":http://storage.ning.com/topology/rest/1.0/
 file/get/2591391815?profile=original
ATTENDEE;ROLE=REQ-PARTICIPANT;PARTSTAT=ACCEPTED;RSVP=TRUE;CN="Wendy Ag
 er":https://networkinginsurrey.co.uk/profile/WendyAger
END:VEVENT
END:VCALENDAR
