BEGIN:VCALENDAR
PRODID:NingEventWidget-v1
VERSION:2.0
METHOD:PUBLISH
BEGIN:VTIMEZONE
TZID:Europe/London
X-LIC-LOCATION:Europe/London
BEGIN:DAYLIGHT
TZOFFSETFROM:+0000
TZOFFSETTO:+0100
TZNAME:BST
DTSTART:19700329T010000
RRULE:FREQ=YEARLY;BYMONTH=3;BYDAY=-1SU
END:DAYLIGHT
BEGIN:STANDARD
TZOFFSETFROM:+0100
TZOFFSETTO:+0000
TZNAME:GMT
DTSTART:19701025T020000
RRULE:FREQ=YEARLY;BYMONTH=10;BYDAY=-1SU
END:STANDARD
END:VTIMEZONE
BEGIN:VEVENT
UID:4626108:Event:409399
DTSTAMP:20260420T223658Z
SUMMARY:Reigate Business over Breakfast
DESCRIPTION:Business over Breakfast at the Reigate Hill Golf Club, R
 eigate \r\n\r\nOur meetings bring local businesses together fortnight
 ly in a number of areas throughout Surrey to encourage and facilitate 
 the collaboration of people who want to positively promote their compa
 nies\r\nBy creating a positive meeting environment and using the syner
 gies within the room we bring together a team of people to exponential
 ly create business opportunities\r\nThe meeting doors open at 6.30am f
 or open networking and finish before 8.30am although we encourage netw
 orking afterwards with refreshments provided.\r\nNetworking afterwards
  gives you the opportunity to expand upon the information provided in 
 the meeting and allows you to start that all important ingredient of b
 uilding positive business relationships with the aim of creating strat
 egic alliances\r\nPlease come and meet with us for you to experience t
 he positive way in which we bring people together by encouraging and s
 upporting the team to collaborate collectively to help positively grow
  their confidence and business opportunities\r\nThere is nothing we en
 joy more than seeing people leaving our meeting with potential busines
 s and/or the perfect business introduction\r\nCOST: £10 meeting fee 
 (Includes Breakfast Option, Refreshments and Parking)\r\nBOOKING: Plea
 se CLICK HERE to visit our website and click on the 'Visit this Club' 
 button to register\r\nMAP\r\nThere is free parking at the venue\r\n\r\
 n\n\nFor more information visit https://networkinginsurrey.co.uk/event
 s/redhill-amp-reigate-business-over-breakfast-1
DTSTART;TZID=Europe/London:20200930T063000
DTEND;TZID=Europe/London:20200930T084500
CATEGORIES:breakfast, bob_clubs, reigate, redhill
LOCATION:Reigate Hill Golf Club RH2 0TU
WEBSITE:https://www.bobclubs.com/Club/Reigate-Redhill
URL:https://www.bobclubs.com/Club/Reigate-Redhill
CONTACT:07702 783233
ORGANIZER;CN="Ian Morgan":https://networkinginsurrey.co.uk/profile/Ian
 Morgan
ATTACH;FMTTYPE="image/jpeg":http://storage.ning.com/topology/rest/1.0/
 file/get/2591411699?profile=original
ATTENDEE;ROLE=REQ-PARTICIPANT;PARTSTAT=ACCEPTED;RSVP=TRUE;CN="Ian Morg
 an":https://networkinginsurrey.co.uk/profile/IanMorgan
END:VEVENT
END:VCALENDAR
