BEGIN:VCALENDAR
PRODID:NingEventWidget-v1
VERSION:2.0
METHOD:PUBLISH
BEGIN:VTIMEZONE
TZID:Europe/London
X-LIC-LOCATION:Europe/London
BEGIN:DAYLIGHT
TZOFFSETFROM:+0000
TZOFFSETTO:+0100
TZNAME:BST
DTSTART:19700329T010000
RRULE:FREQ=YEARLY;BYMONTH=3;BYDAY=-1SU
END:DAYLIGHT
BEGIN:STANDARD
TZOFFSETFROM:+0100
TZOFFSETTO:+0000
TZNAME:GMT
DTSTART:19701025T020000
RRULE:FREQ=YEARLY;BYMONTH=10;BYDAY=-1SU
END:STANDARD
END:VTIMEZONE
BEGIN:VEVENT
UID:4626108:Event:507662
DTSTAMP:20260420T230205Z
SUMMARY:Real Networking Morning Online
DESCRIPTION:  Real Networking Morning Online\n\n\nOur next online mee
 ting is next Wednesday 24th March at 10am \n\nWe will be using Zoom w
 hich is free for you to use and accessible straight from your web brow
 ser, or from the Zoom app if you wish to download. You will need a dev
 ice with speakers and a microphone as a minimum.\n\nWe hope you will j
 oin us as we take Real Networking online!\nCOST: £11.50\nBOOKING: Ple
 ase CLICK HERE to book your place\nMAP\n\nFor more information visit 
 https://networkinginsurrey.co.uk/events/real-networking-morning-online
 -7
DTSTART;TZID=Europe/London:20210324T100000
DTEND;TZID=Europe/London:20210324T114500
CATEGORIES:networking, morning, online
LOCATION:Online only
WEBSITE:http://www.realnetworking.business
URL:http://www.realnetworking.business
CONTACT:07756918126
ORGANIZER:Mette Theilmann and Linda Hopkins
ATTACH;FMTTYPE="image/jpeg":https://storage.ning.com/topology/rest/1.0
 /file/get/1035918009?profile=original
ATTENDEE;ROLE=REQ-PARTICIPANT;PARTSTAT=ACCEPTED;RSVP=TRUE;CN="Mette Th
 eilmann":https://networkinginsurrey.co.uk/profile/MetteTheilmann4
END:VEVENT
END:VCALENDAR
