BEGIN:VCALENDAR
PRODID:NingEventWidget-v1
VERSION:2.0
METHOD:PUBLISH
BEGIN:VTIMEZONE
TZID:Europe/London
X-LIC-LOCATION:Europe/London
BEGIN:DAYLIGHT
TZOFFSETFROM:+0000
TZOFFSETTO:+0100
TZNAME:BST
DTSTART:19700329T010000
RRULE:FREQ=YEARLY;BYMONTH=3;BYDAY=-1SU
END:DAYLIGHT
BEGIN:STANDARD
TZOFFSETFROM:+0100
TZOFFSETTO:+0000
TZNAME:GMT
DTSTART:19701025T020000
RRULE:FREQ=YEARLY;BYMONTH=10;BYDAY=-1SU
END:STANDARD
END:VTIMEZONE
BEGIN:VEVENT
UID:4626108:Event:120412
DTSTAMP:20260423T222050Z
SUMMARY:Real Networking Morning, Chertsey
DESCRIPTION:Real Networking Morning at The Golden Grove \n\nReal Netw
 orking is a supportive group of self-employed people. We meet regularl
 y to connect, collaborate, inspire, learn and laugh. \n\nReal Network
 ing offers an environment that supports collaboration and referrals. W
 e meet regularly for business networking without the overhead of expen
 sive memberships.\nFind more Real Networking events here... \nCOST: 
 £11.25\nBOOKING: Please CLICK HERE to book your place\nMAP\n\nFor mor
 e information visit https://networkinginsurrey.co.uk/events/real-netwo
 rking-morning-chertsey
DTSTART;TZID=Europe/London:20190521T100000
DTEND;TZID=Europe/London:20190521T120000
CATEGORIES:networking
LOCATION:Chertsey
WEBSITE:https://www.eventbrite.co.uk/e/egham-real-networking-march-201
 9-tickets-53316874206
URL:https://www.eventbrite.co.uk/e/egham-real-networking-march-2019-ti
 ckets-53316874206
CONTACT:07756918126
ORGANIZER:Mette Theilmann and Linda Hopkins
ATTACH;FMTTYPE="image/jpeg":https://storage.ning.com/topology/rest/1.0
 /file/get/1035918009?profile=original
ATTENDEE;ROLE=REQ-PARTICIPANT;PARTSTAT=ACCEPTED;RSVP=TRUE;CN="Mette Th
 eilmann":https://networkinginsurrey.co.uk/profile/MetteTheilmann4
END:VEVENT
END:VCALENDAR
