BEGIN:VCALENDAR
PRODID:NingEventWidget-v1
VERSION:2.0
METHOD:PUBLISH
BEGIN:VTIMEZONE
TZID:Europe/London
X-LIC-LOCATION:Europe/London
BEGIN:DAYLIGHT
TZOFFSETFROM:+0000
TZOFFSETTO:+0100
TZNAME:BST
DTSTART:19700329T010000
RRULE:FREQ=YEARLY;BYMONTH=3;BYDAY=-1SU
END:DAYLIGHT
BEGIN:STANDARD
TZOFFSETFROM:+0100
TZOFFSETTO:+0000
TZNAME:GMT
DTSTART:19701025T020000
RRULE:FREQ=YEARLY;BYMONTH=10;BYDAY=-1SU
END:STANDARD
END:VTIMEZONE
BEGIN:VEVENT
UID:4626108:Event:199571
DTSTAMP:20260422T113002Z
SUMMARY:Real Networking Morning, Chertsey
DESCRIPTION:Real Networking Morning at The Golden Grove Real Networki
 ng is a supportive group of self-employed people. We meet regularly to
  connect, collaborate, inspire, learn and laugh. \r\nReal Networking 
 offers an environment that supports collaboration and referrals. We me
 et regularly for business networking without the overhead of expensive
  memberships.\r\nFind more Real Networking events here... \r\nCOST: 
 £11.25\r\nBOOKING: Please CLICK HERE to book your place\r\nMAP\n\nFor
  more information visit https://networkinginsurrey.co.uk/events/real-n
 etworking-morning-chertsey-3
DTSTART;TZID=Europe/London:20190924T100000
DTEND;TZID=Europe/London:20190924T120000
CATEGORIES:networking
LOCATION:Chertsey
WEBSITE:https://www.eventbrite.co.uk/e/egham-real-networking-march-201
 9-tickets-53316874206
URL:https://www.eventbrite.co.uk/e/egham-real-networking-march-2019-ti
 ckets-53316874206
CONTACT:07756918126
ORGANIZER:Mette Theilmann and Linda Hopkins
ATTACH;FMTTYPE="image/jpeg":https://storage.ning.com/topology/rest/1.0
 /file/get/1035918009?profile=original
ATTENDEE;ROLE=REQ-PARTICIPANT;PARTSTAT=ACCEPTED;RSVP=TRUE;CN="Mette Th
 eilmann":https://networkinginsurrey.co.uk/profile/MetteTheilmann4
END:VEVENT
END:VCALENDAR
