BEGIN:VCALENDAR
PRODID:NingEventWidget-v1
VERSION:2.0
METHOD:PUBLISH
BEGIN:VTIMEZONE
TZID:Europe/London
X-LIC-LOCATION:Europe/London
BEGIN:DAYLIGHT
TZOFFSETFROM:+0000
TZOFFSETTO:+0100
TZNAME:BST
DTSTART:19700329T010000
RRULE:FREQ=YEARLY;BYMONTH=3;BYDAY=-1SU
END:DAYLIGHT
BEGIN:STANDARD
TZOFFSETFROM:+0100
TZOFFSETTO:+0000
TZNAME:GMT
DTSTART:19701025T020000
RRULE:FREQ=YEARLY;BYMONTH=10;BYDAY=-1SU
END:STANDARD
END:VTIMEZONE
BEGIN:VEVENT
UID:4626108:Event:173466
DTSTAMP:20260422T175624Z
SUMMARY:Real Networking Morning, Chertsey
DESCRIPTION:Real Networking Morning at The Golden Grove \r\n\r\nReal 
 Networking is a supportive group of self-employed people. We meet regu
 larly to connect, collaborate, inspire, learn and laugh. \r\nReal Net
 working offers an environment that supports collaboration and referral
 s. We meet regularly for business networking without the overhead of e
 xpensive memberships.\r\nFind more Real Networking events here... \r
 \nCOST: £11.25\r\nBOOKING: Please CLICK HERE to book your place\r\nM
 AP\n\nFor more information visit https://networkinginsurrey.co.uk/even
 ts/real-networking-morning-chertsey-1
DTSTART;TZID=Europe/London:20190716T100000
DTEND;TZID=Europe/London:20190716T120000
CATEGORIES:networking, morning, chertsey, real_networking
LOCATION:The Golden Grove
WEBSITE:https://www.eventbrite.co.uk/e/chertsey-real-networking-july-2
 019-tickets-63106819195
URL:https://www.eventbrite.co.uk/e/chertsey-real-networking-july-2019-
 tickets-63106819195
CONTACT:07756918126
ORGANIZER:Mette Theilmann and Linda Hopkins
ATTACH;FMTTYPE="image/jpeg":https://storage.ning.com/topology/rest/1.0
 /file/get/1035918009?profile=original
ATTENDEE;ROLE=REQ-PARTICIPANT;PARTSTAT=ACCEPTED;RSVP=TRUE;CN="Mette Th
 eilmann":https://networkinginsurrey.co.uk/profile/MetteTheilmann4
END:VEVENT
END:VCALENDAR
