BEGIN:VCALENDAR
PRODID:NingEventWidget-v1
VERSION:2.0
METHOD:PUBLISH
BEGIN:VTIMEZONE
TZID:Europe/London
X-LIC-LOCATION:Europe/London
BEGIN:DAYLIGHT
TZOFFSETFROM:+0000
TZOFFSETTO:+0100
TZNAME:BST
DTSTART:19700329T010000
RRULE:FREQ=YEARLY;BYMONTH=3;BYDAY=-1SU
END:DAYLIGHT
BEGIN:STANDARD
TZOFFSETFROM:+0100
TZOFFSETTO:+0000
TZNAME:GMT
DTSTART:19701025T020000
RRULE:FREQ=YEARLY;BYMONTH=10;BYDAY=-1SU
END:STANDARD
END:VTIMEZONE
BEGIN:VEVENT
UID:4626108:Event:103698
DTSTAMP:20260424T093750Z
SUMMARY:Real Networking Morning, Camberley
DESCRIPTION:Real Networking Morning in Camberley\r\n\r\nReal Networkin
 g is a supportive group of self-employed people. We meet regularly to 
 connect, collaborate, inspire, learn and laugh.Â \r\nWe have our amazi
 ng from Jo Brill will join us to talk about how to have a 'real' conve
 rsation' about what it takes to be courageous. Â  Â \r\nReal Networkin
 g offers an environment that supports collaboration and referrals. We 
 meet regularly for business networking without the overhead of expensi
 ve memberships.\r\nFind more Real Networking events here...\r\nCOST: Â
 £11.25\r\nBOOKING: Please CLICK HERE to book your place\r\nMAP\n\nFor 
 more information visit https://networkinginsurrey.co.uk/events/real-ne
 tworking-morning-camberley
DTSTART;TZID=Europe/London:20190215T100000
DTEND;TZID=Europe/London:20190215T120000
CATEGORIES:networking, morning, camberley, real_networking
LOCATION:Egham
WEBSITE:https://www.eventbrite.co.uk/e/camberley-real-networking-febru
 ary-2019-tickets-52661264259
URL:https://www.eventbrite.co.uk/e/camberley-real-networking-february-
 2019-tickets-52661264259
CONTACT:07756918126
ORGANIZER:Mette Theilmann and Linda Hopkins
ATTACH;FMTTYPE="image/jpeg":https://storage.ning.com/topology/rest/1.0
 /file/get/1035918009?profile=original
ATTENDEE;ROLE=REQ-PARTICIPANT;PARTSTAT=ACCEPTED;RSVP=TRUE;CN="Mette Th
 eilmann":https://networkinginsurrey.co.uk/profile/MetteTheilmann4
END:VEVENT
END:VCALENDAR
