BEGIN:VCALENDAR
PRODID:NingEventWidget-v1
VERSION:2.0
METHOD:PUBLISH
BEGIN:VTIMEZONE
TZID:Europe/London
X-LIC-LOCATION:Europe/London
BEGIN:DAYLIGHT
TZOFFSETFROM:+0000
TZOFFSETTO:+0100
TZNAME:BST
DTSTART:19700329T010000
RRULE:FREQ=YEARLY;BYMONTH=3;BYDAY=-1SU
END:DAYLIGHT
BEGIN:STANDARD
TZOFFSETFROM:+0100
TZOFFSETTO:+0000
TZNAME:GMT
DTSTART:19701025T020000
RRULE:FREQ=YEARLY;BYMONTH=10;BYDAY=-1SU
END:STANDARD
END:VTIMEZONE
BEGIN:VEVENT
UID:4626108:Event:120409
DTSTAMP:20260424T035033Z
SUMMARY:Real Networking Morning, Camberley
DESCRIPTION:Real Networking Morning in Camberley  \r\nReal Networking
  is a supportive group of self-employed people. We meet regularly to c
 onnect, collaborate, inspire, learn and laugh. \r\nReal Networking of
 fers an environment that supports collaboration and referrals. We meet
  regularly for business networking without the overhead of expensive m
 emberships.\r\nFind more Real Networking events here... \r\nCOST: £
 11.25\r\nBOOKING: Please CLICK HERE to book your place\r\nMAP\n\nFor m
 ore information visit https://networkinginsurrey.co.uk/events/real-net
 working-morning-camberley-1
DTSTART;TZID=Europe/London:20190517T100000
DTEND;TZID=Europe/London:20190517T120000
CATEGORIES:networking
LOCATION:camberley
WEBSITE:https://www.eventbrite.co.uk/e/camberley-real-networking-may-2
 019-tickets-58586387462
URL:https://www.eventbrite.co.uk/e/camberley-real-networking-may-2019-
 tickets-58586387462
CONTACT:07756918126
ORGANIZER:Mette Theilmann &amp; Natalie Sutton
ATTACH;FMTTYPE="image/jpeg":https://storage.ning.com/topology/rest/1.0
 /file/get/1035918009?profile=original
ATTENDEE;ROLE=REQ-PARTICIPANT;PARTSTAT=ACCEPTED;RSVP=TRUE;CN="Linda Ho
 pkins":https://networkinginsurrey.co.uk/profile/LindaHopkins
ATTENDEE;ROLE=REQ-PARTICIPANT;PARTSTAT=ACCEPTED;RSVP=TRUE;CN="Mette Th
 eilmann":https://networkinginsurrey.co.uk/profile/MetteTheilmann4
END:VEVENT
END:VCALENDAR
