BEGIN:VCALENDAR
PRODID:NingEventWidget-v1
VERSION:2.0
METHOD:PUBLISH
BEGIN:VTIMEZONE
TZID:Europe/London
X-LIC-LOCATION:Europe/London
BEGIN:DAYLIGHT
TZOFFSETFROM:+0000
TZOFFSETTO:+0100
TZNAME:BST
DTSTART:19700329T010000
RRULE:FREQ=YEARLY;BYMONTH=3;BYDAY=-1SU
END:DAYLIGHT
BEGIN:STANDARD
TZOFFSETFROM:+0100
TZOFFSETTO:+0000
TZNAME:GMT
DTSTART:19701025T020000
RRULE:FREQ=YEARLY;BYMONTH=10;BYDAY=-1SU
END:STANDARD
END:VTIMEZONE
BEGIN:VEVENT
UID:4626108:Event:100412
DTSTAMP:20260422T055721Z
SUMMARY:Random Dialogues First Monday Morning Meet Up
DESCRIPTION:A Random Dialogues Monday Meetup\r\n\r\nRandom Dialogues:\
 r\n✔is about reciprocal support, community, learning and fun ✔prov
 ides support to match its community’s needs ✔runs a number of alte
 rnative meet ups each month\r\nRandom Dialogues is based in Guildford 
 Surrey. We are a ‘soft network’, giving participants a voice and a
 n opportunity to connect and collaborate with others about who they ar
 e and to share what they LOVE to do, and if they don't know we provide
  opportunities to explore possibilities with them.\r\nWe run 3 relaxed
 , fun and unusual meet ups each month.\r\nPlease join our  Random Dia
 logues meet up group to keep track of what we do!\r\nCOST: £5 meetin
 g fee\r\nBOOKING: Please CLICK HERE to join our Meetup group and bo
 ok in to join us \r\nMAP\r\n\n\nFor more information visit https://ne
 tworkinginsurrey.co.uk/events/random-dialogues-first-monday-of-the-mon
 th-meet-up
DTSTART;TZID=Europe/London:20181001T100000
DTEND;TZID=Europe/London:20181001T120000
CATEGORIES:soft, networking
LOCATION:Hoebridge Golf Club
WEBSITE:http://Meetup.com/random-dialogue
URL:http://Meetup.com/random-dialogue
CONTACT:07768 392686
ORGANIZER;CN="Jane Tyson":https://networkinginsurrey.co.uk/profile/Jan
 eTyson
ATTACH;FMTTYPE="image/jpeg":http://storage.ning.com/topology/rest/1.0/
 file/get/2591467750?profile=original
ATTENDEE;ROLE=REQ-PARTICIPANT;PARTSTAT=ACCEPTED;RSVP=TRUE;CN="Jane Tys
 on":https://networkinginsurrey.co.uk/profile/JaneTyson
END:VEVENT
END:VCALENDAR
