BEGIN:VCALENDAR
PRODID:NingEventWidget-v1
VERSION:2.0
METHOD:PUBLISH
BEGIN:VTIMEZONE
TZID:Europe/London
X-LIC-LOCATION:Europe/London
BEGIN:DAYLIGHT
TZOFFSETFROM:+0000
TZOFFSETTO:+0100
TZNAME:BST
DTSTART:19700329T010000
RRULE:FREQ=YEARLY;BYMONTH=3;BYDAY=-1SU
END:DAYLIGHT
BEGIN:STANDARD
TZOFFSETFROM:+0100
TZOFFSETTO:+0000
TZNAME:GMT
DTSTART:19701025T020000
RRULE:FREQ=YEARLY;BYMONTH=10;BYDAY=-1SU
END:STANDARD
END:VTIMEZONE
BEGIN:VEVENT
UID:4626108:Event:96024
DTSTAMP:20260423T053026Z
SUMMARY:Random Dialogues Monday Morning Meetup, Woking
DESCRIPTION:A Random Dialogues Monday Meetup\r\nFollowing on from our 
 weekend at the Consciousness and Human Evolution event #TCCHE we now b
 elieve even more in community and friendship.\r\n\r\nThis monthly Rand
 om Dialogues Monday meetup is usually at the Hoebridge Golf Club, Woki
 ng (it can vary).\r\nSome months we have no agenda, it's very random, 
 informal and fun. We meet for a drink, maybe lunch. We find many of ou
 r conversations around the table are creative, curious and lead to col
 laborations. Some members stay on at this one to enjoy a round of golf
 ! \r\nOther months we may offer more of a workshop format and structu
 re. \r\nTypically. we run 4 meet ups across the month including a ram
 bling dialogue, a 'How I Do' workshop and a fun and sociable evening m
 onthly event called 'Stand Up For Yourself'. This is for our members t
 o share a 10 minute talk on a random subject of their choosing. These 
 talks are often conceived during conversations at this monthly Monday 
 meet up.\r\nPlease join our meet up group to keep track of what we do!
  Random Dialogues\r\nCOST: FREE to attend \r\nBOOKING: Please CLI
 CK HERE to join our Meetup group\r\nMAP\n\nFor more information visit
  https://networkinginsurrey.co.uk/events/random-dialogues-2
DTSTART;TZID=Europe/London:20180205T100000
DTEND;TZID=Europe/London:20180205T120000
CATEGORIES:meet, up
LOCATION:Hoebridge Golf Club GU22 8JH
WEBSITE:http://hoebridgegc.co.uk/
URL:http://hoebridgegc.co.uk/
CONTACT:07768 392686
ORGANIZER;CN="Jane Tyson":https://networkinginsurrey.co.uk/profile/Jan
 eTyson
ATTACH;FMTTYPE="image/jpeg":http://storage.ning.com/topology/rest/1.0/
 file/get/2591467750?profile=original
ATTENDEE;ROLE=REQ-PARTICIPANT;PARTSTAT=ACCEPTED;RSVP=TRUE;CN="Jane Tys
 on":https://networkinginsurrey.co.uk/profile/JaneTyson
END:VEVENT
END:VCALENDAR
