BEGIN:VCALENDAR
PRODID:NingEventWidget-v1
VERSION:2.0
METHOD:PUBLISH
BEGIN:VTIMEZONE
TZID:Europe/London
X-LIC-LOCATION:Europe/London
BEGIN:DAYLIGHT
TZOFFSETFROM:+0000
TZOFFSETTO:+0100
TZNAME:BST
DTSTART:19700329T010000
RRULE:FREQ=YEARLY;BYMONTH=3;BYDAY=-1SU
END:DAYLIGHT
BEGIN:STANDARD
TZOFFSETFROM:+0100
TZOFFSETTO:+0000
TZNAME:GMT
DTSTART:19701025T020000
RRULE:FREQ=YEARLY;BYMONTH=10;BYDAY=-1SU
END:STANDARD
END:VTIMEZONE
BEGIN:VEVENT
UID:4626108:Event:56008
DTSTAMP:20260419T144530Z
SUMMARY:FREE Purley Business Association Evening, Purley
DESCRIPTION:Evening Networking at the Jolly Farmers\n\nHeld in theÂ me
 eting room at theÂ Jolly Farmers Purley, our sociableÂ evenings offerÂ
  openÂ networkingÂ for Purley businesses as well as an informative and
  useful talk that will help save your business money.\nMeetings are op
 en to Purley Business members and non-members and your first visit is 
 free.Â  After that the meetings are only Â£5 and are held on the third
  Tuesday of every month.\nThe meeting starts at 6.30 to promote your b
 usiness by exchanging cards and meet other great Purley businesses.\nC
 OST: FREE to attend your first meeting (thereafter just Â£5) - all wel
 come\nBOOKING: Please CLICK HEREÂ to book your place\nMAP\n-----------
 ---------------------------------------\nPurley Business Association h
 oldsÂ monthly business development and network meeting in order to sup
 port and grow businesses that are based or do business in Purley. Meet
 ings are free to first time visitors and Purley business Association m
 embers (Membership starts from just Â£35 a year) otherwise it's a nomi
 nal 5 pounds per visit. Meeting structure starts with open networking,
  followed by either an educational presentation of business support di
 scussion. Come along and grow your business in Purley with the PBA!\n\
 nFor more information visit https://networkinginsurrey.co.uk/events/pu
 rley-business-association-networking
DTSTART;TZID=Europe/London:20130514T183000
DTEND;TZID=Europe/London:20130514T200000
CATEGORIES:evening, purley
LOCATION:Jolly Farmers Meeting Room CR8 2HA
WEBSITE:http://www.purleybusiness.co.uk/
URL:http://www.purleybusiness.co.uk/
CONTACT:02031371826
ORGANIZER;CN="Simon Cripps":https://networkinginsurrey.co.uk/profile/S
 imonCripps
ATTACH;FMTTYPE="image/jpeg":http://storage.ning.com/topology/rest/1.0/
 file/get/2591417603?profile=original
ATTENDEE;ROLE=REQ-PARTICIPANT;PARTSTAT=ACCEPTED;RSVP=TRUE;CN="Simon Cr
 ipps":https://networkinginsurrey.co.uk/profile/SimonCripps
ATTENDEE;ROLE=REQ-PARTICIPANT;PARTSTAT=TENTATIVE;RSVP=TRUE;CN="Lord Ha
 milton of Glencoe":https://networkinginsurrey.co.uk/profile/BrianIanHa
 milton
END:VEVENT
END:VCALENDAR
