BEGIN:VCALENDAR
PRODID:NingEventWidget-v1
VERSION:2.0
METHOD:PUBLISH
BEGIN:VTIMEZONE
TZID:Europe/London
X-LIC-LOCATION:Europe/London
BEGIN:DAYLIGHT
TZOFFSETFROM:+0000
TZOFFSETTO:+0100
TZNAME:BST
DTSTART:19700329T010000
RRULE:FREQ=YEARLY;BYMONTH=3;BYDAY=-1SU
END:DAYLIGHT
BEGIN:STANDARD
TZOFFSETFROM:+0100
TZOFFSETTO:+0000
TZNAME:GMT
DTSTART:19701025T020000
RRULE:FREQ=YEARLY;BYMONTH=10;BYDAY=-1SU
END:STANDARD
END:VTIMEZONE
BEGIN:VEVENT
UID:4626108:Event:69483
DTSTAMP:20260424T014429Z
SUMMARY:GUEST EVENT: FREE Marketing Morning Workshop, Reading
DESCRIPTION:FREE Prudent Marketing Workshop at Wokefield Park\n\nA thr
 ee hour workshop for SMEs. You'll have to cress the border into Berksh
 ire, but to make it very worth your while I would like to offer member
 s of Networking in Surrey a free place on this popular workshop full o
 f great information, advice and practical marketing tactics.\nWhat the
  seminar will cover\n\nWhat is Prudent Marketing and how you can use i
 t;\nA strategy for creating multiple streams of online and offline inc
 ome;\nHow to grow your business for free, using the internet;\nWinning
  business from LinkedIn;\nHow to dominate the first page of Google for
  no cost;\nHow to double your website traffic without a budget;\nHow t
 o use Marketing without Money and what this could mean for your busine
 ss;\nGetting the most out of your current clients;\nHow to double the 
 size of your database within 12 months;\nWhy blogging is a MUST and no
 t a should;\nThe ten biggest mistakes most small businesses make;\nHow
  to turn more leads into sales, or appointments on the phone;\nHow to 
 get Government funding to grow your business; and\nThe Marketing Hub.\
 n\nCOST: FREE to NiS Members (£27 others)\nBOOKING: Please CLICK HERE
  to register (book a free Prudent Marketing Academy Members Ticket an
 d put 'NiS Member' in the comment box ) \nMAP\n\nFor more information
  visit https://networkinginsurrey.co.uk/events/prudent-marketing-train
 ing
DTSTART;TZID=Europe/London:20141217T100000
DTEND;TZID=Europe/London:20141217T130000
CATEGORIES:preview, workshop
LOCATION:Wokefield Park Conference Centre RG7 3AH
WEBSITE:http://theprudentmarketer.com/events/
URL:http://theprudentmarketer.com/events/
CONTACT:01189 875100
ORGANIZER;CN="Steve Mills - Prudent Marketer":https://networkinginsurr
 ey.co.uk/profile/SteveMills
ATTACH;FMTTYPE="image/jpeg":http://storage.ning.com/topology/rest/1.0/
 file/get/2591438251?profile=original
ATTENDEE;ROLE=REQ-PARTICIPANT;PARTSTAT=ACCEPTED;RSVP=TRUE;CN="Steve Mi
 lls - Prudent Marketer":https://networkinginsurrey.co.uk/profile/Steve
 Mills
END:VEVENT
END:VCALENDAR
