BEGIN:VCALENDAR
PRODID:NingEventWidget-v1
VERSION:2.0
METHOD:PUBLISH
BEGIN:VTIMEZONE
TZID:Europe/London
X-LIC-LOCATION:Europe/London
BEGIN:DAYLIGHT
TZOFFSETFROM:+0000
TZOFFSETTO:+0100
TZNAME:BST
DTSTART:19700329T010000
RRULE:FREQ=YEARLY;BYMONTH=3;BYDAY=-1SU
END:DAYLIGHT
BEGIN:STANDARD
TZOFFSETFROM:+0100
TZOFFSETTO:+0000
TZNAME:GMT
DTSTART:19701025T020000
RRULE:FREQ=YEARLY;BYMONTH=10;BYDAY=-1SU
END:STANDARD
END:VTIMEZONE
BEGIN:VEVENT
UID:4626108:Event:7332
DTSTAMP:20260422T190953Z
SUMMARY:Property Network Evening, Croydon
DESCRIPTION:Property Network at Croydon Park HotelIt's the place for 
 all property professionals to meet.To launch the event I have one of T
 Vs secret millionaires Kevin Green speaking about Wealth Creations Str
 ategies, which will benefit investors and the public alike\nWednesday 
 2nd FebruaryDoors open 19.00  Starts 19.30Altyre road Croydon CR9 5AA
 COST: £10\nFor full details and to contact us please go towww.croydon
 propertymeet.comfacebook : croydonpropertymeet\n\nFor more information
  visit https://networkinginsurrey.co.uk/events/property-network-evenin
 g
DTSTART;TZID=Europe/London:20110202T190000
DTEND;TZID=Europe/London:20110202T220000
CATEGORIES:evening, croyson, property
LOCATION:The Croydon Park Hotel
WEBSITE:http://www.croydonparkhotel.com/
URL:http://www.croydonparkhotel.com/
CONTACT:
ORGANIZER:Jeanette Laley
ATTACH;FMTTYPE="image/jpeg":http://storage.ning.com/topology/rest/1.0/
 file/get/2591389495?profile=original
ATTENDEE;ROLE=REQ-PARTICIPANT;PARTSTAT=ACCEPTED;RSVP=TRUE;CN="Annie He
 ggie":https://networkinginsurrey.co.uk/profile/Annie
END:VEVENT
END:VCALENDAR
