BEGIN:VCALENDAR
PRODID:NingEventWidget-v1
VERSION:2.0
METHOD:PUBLISH
BEGIN:VTIMEZONE
TZID:Europe/London
X-LIC-LOCATION:Europe/London
BEGIN:DAYLIGHT
TZOFFSETFROM:+0000
TZOFFSETTO:+0100
TZNAME:BST
DTSTART:19700329T010000
RRULE:FREQ=YEARLY;BYMONTH=3;BYDAY=-1SU
END:DAYLIGHT
BEGIN:STANDARD
TZOFFSETFROM:+0100
TZOFFSETTO:+0000
TZNAME:GMT
DTSTART:19701025T020000
RRULE:FREQ=YEARLY;BYMONTH=10;BYDAY=-1SU
END:STANDARD
END:VTIMEZONE
BEGIN:VEVENT
UID:4626108:Event:47090
DTSTAMP:20260425T214626Z
SUMMARY:Elmbridge Women in Business Evening, Weybridge
DESCRIPTION:EWiB Press Release Taster Session at The Ship\n\nCome alon
 g to this Elmbridge Women in Business  Weybridge event to hear gue
 st speaker, Hilary Gavin,provide you with an insight into what makes 
 a great press release.\nA WELL-CRAFTED press release should be your bu
 siness’s ticket to invaluable publicity, so why do we find them so d
 ifficult to write? Just what IS an Editor looking for in a story?  How
  do you make your press release stand out?  What are the pitfalls? As 
 a former journalist, Hilary Gavin has read thousands of press releas
 es over the years.  Here, she shares her expertise with you and intro
 duces you to the who, what, where, when, why of good PR.\nBest wishes 
 and I look forward to seeing you there!\nSandy Scott, Chairman Elmbri
 dge Women in Business www.ewib.co.uk Tel: - 07590 537016\nCOST: The
  meeting fee is £15 for anyone attending. Please CLICK HERE for detai
 ls and to book. There are no limits on who can attend or how often th
 ey can come, but booking is essential please.\nBOOKING:Please CLICK HE
 RE now to secure your place…\nVENUE\nMAP\nDIRECTIONS\nThere is limit
 ed parking in The Ship's own car park (often tricky to negotiate when 
 it's busy!) and on-street parking is free in the evening.\n\nFor more 
 information visit https://networkinginsurrey.co.uk/events/press-releas
 e-taster-session
DTSTART;TZID=Europe/London:20120918T183000
DTEND;TZID=Europe/London:20120918T210000
CATEGORIES:networking, event
LOCATION:Best Western Ship Hotel KT13 8BQ
WEBSITE:https://maps.google.com/
URL:https://maps.google.com/
CONTACT:01372 386028 (or 07752 420 005)  Leonie Wright (Chair)
ORGANIZER;CN="Cathryn Woolley":https://networkinginsurrey.co.uk/profil
 e/CathrynWoolley
ATTACH;FMTTYPE="image/jpeg":http://storage.ning.com/topology/rest/1.0/
 file/get/2591374802?profile=original
ATTENDEE;ROLE=REQ-PARTICIPANT;PARTSTAT=ACCEPTED;RSVP=TRUE;CN="Cathryn 
 Woolley":https://networkinginsurrey.co.uk/profile/CathrynWoolley
END:VEVENT
END:VCALENDAR
