BEGIN:VCALENDAR
PRODID:NingEventWidget-v1
VERSION:2.0
METHOD:PUBLISH
BEGIN:VTIMEZONE
TZID:Europe/London
X-LIC-LOCATION:Europe/London
BEGIN:DAYLIGHT
TZOFFSETFROM:+0000
TZOFFSETTO:+0100
TZNAME:BST
DTSTART:19700329T010000
RRULE:FREQ=YEARLY;BYMONTH=3;BYDAY=-1SU
END:DAYLIGHT
BEGIN:STANDARD
TZOFFSETFROM:+0100
TZOFFSETTO:+0000
TZNAME:GMT
DTSTART:19701025T020000
RRULE:FREQ=YEARLY;BYMONTH=10;BYDAY=-1SU
END:STANDARD
END:VTIMEZONE
BEGIN:VEVENT
UID:4626108:Event:11604
DTSTAMP:20260422T173732Z
SUMMARY:POSTPONED *************‘Meet The Venues’ POSTPONED
DESCRIPTION:EVENT POSTPONED\nTHIS EVENT WILL NOW TAKE PLACE IN SEPTEMB
 ER...\n \n \n \n \n \nCome along to a Networking Reception event 
 and meet new potential customers and clients or renew existing ones wh
 ile enjoying drinks and refreshments and check out the best Surrey has
  to offer in venues at our Surrey Meet the Venues event.\nSurrey Chamb
 ers are currently organising an innovative event at Denbies Wine Estat
 e to showcase all the top venues in and around Surrey. The idea is to 
 present all the local venues under one roof so that companies and indi
 viduals can come along to see what Surrey has to offer for corporate a
 nd private functions. With over 30 venues represented, the visitors wi
 ll be able to get a really good idea of the location which would suit 
 a meeting or event they are planning. We are planning a strong marketi
 ng campaign for this event, so don’t miss the chance of getting invo
 lved in this exciting new concept! If you would like to attend this ev
 ent as a delegate, the event is free, but please register for catering
  reasons\nPlease note that bookings can be made up to the day of the e
 vent, however those made within three days of the event may not be inc
 luded in the delegate list.\nCOST: Entrance is free for Chamber Member
 s and non-Members alike, but you must book to attend.\nOpen from 16.00
  - 19.00 hrs, so please pop in when it's convenient for you.\nBOOK HER
 E When you book this FREE event online the system will ask you to regi
 ster (free) and choose a payment method. Please select 'No payment req
 uired ' so your booking can be processed.\nMAP\nDIRECTIONS\nEXHIBITORS
 : If you are interested in taking a Stand at this event please click h
 ere for details\n\nFor more information visit https://networkinginsurr
 ey.co.uk/events/postponed-meet-the-venues
DTSTART;TZID=Europe/London:20110405T160000
DTEND;TZID=Europe/London:20110405T210000
CATEGORIES:aftenoon, free, dorking, business_networking
LOCATION:Denbies Wine Estate RH5 6AA
WEBSITE:http://shop.surrey-chambers.co.uk/all-events/networking-events
 /surrey-meet-the-venues.html
URL:http://shop.surrey-chambers.co.uk/all-events/networking-events/sur
 rey-meet-the-venues.html
CONTACT:
ORGANIZER:Richard Guillaume, Surrey Chambers
ATTACH;FMTTYPE="image/jpeg":http://storage.ning.com/topology/rest/1.0/
 file/get/2591389968?profile=original
ATTENDEE;ROLE=REQ-PARTICIPANT;PARTSTAT=ACCEPTED;RSVP=TRUE;CN="Keith Gr
 over, NiS Founder":https://networkinginsurrey.co.uk/profile/KeithGrove
 r
ATTENDEE;ROLE=REQ-PARTICIPANT;PARTSTAT=ACCEPTED;RSVP=TRUE;CN="KEN SMAR
 T WILL WRITER":https://networkinginsurrey.co.uk/profile/KENSMART
ATTENDEE;ROLE=REQ-PARTICIPANT;PARTSTAT=ACCEPTED;RSVP=TRUE;CN="Ben Sing
 er":https://networkinginsurrey.co.uk/profile/Ben
END:VEVENT
END:VCALENDAR
