BEGIN:VCALENDAR
PRODID:NingEventWidget-v1
VERSION:2.0
METHOD:PUBLISH
BEGIN:VTIMEZONE
TZID:Europe/London
X-LIC-LOCATION:Europe/London
BEGIN:DAYLIGHT
TZOFFSETFROM:+0000
TZOFFSETTO:+0100
TZNAME:BST
DTSTART:19700329T010000
RRULE:FREQ=YEARLY;BYMONTH=3;BYDAY=-1SU
END:DAYLIGHT
BEGIN:STANDARD
TZOFFSETFROM:+0100
TZOFFSETTO:+0000
TZNAME:GMT
DTSTART:19701025T020000
RRULE:FREQ=YEARLY;BYMONTH=10;BYDAY=-1SU
END:STANDARD
END:VTIMEZONE
BEGIN:VEVENT
UID:4626108:Event:3960
DTSTAMP:20260423T112727Z
SUMMARY:POSTPONED: LG Networking Morning, Mercedes Benz World, Weybrid
 ge
DESCRIPTION:LG Networking Morning, Mercedes Benz World, Weybridge\nTHI
 S EVENT HAS BEEN POSTPONED UNTIL THE NEW YEAR...\n\nFor more informati
 on visit https://networkinginsurrey.co.uk/events/postponed-lg-networki
 ng
DTSTART;TZID=Europe/London:20101202T110000
DTEND;TZID=Europe/London:20101202T123000
CATEGORIES:morning, weybridge, business_networking_surrey, lg_networki
 ng
LOCATION:Mercedes Benz World, Weybridge KT13 0SL
WEBSITE:http://lgnetworking.co.uk/
URL:http://lgnetworking.co.uk/
CONTACT:01932 350 939
ORGANIZER:Catherine Jackson
ATTACH;FMTTYPE="image/jpeg":http://storage.ning.com/topology/rest/1.0/
 file/get/2591389348?profile=original
ATTENDEE;ROLE=REQ-PARTICIPANT;PARTSTAT=ACCEPTED;RSVP=TRUE;CN="Shirley 
 Barton-Gunning":https://networkinginsurrey.co.uk/profile/ShirleyBarton
 Gunning
ATTENDEE;ROLE=REQ-PARTICIPANT;PARTSTAT=ACCEPTED;RSVP=TRUE;CN="Keith Gr
 over, NiS Founder":https://networkinginsurrey.co.uk/profile/KeithGrove
 r
END:VEVENT
END:VCALENDAR
