BEGIN:VCALENDAR
PRODID:NingEventWidget-v1
VERSION:2.0
METHOD:PUBLISH
BEGIN:VTIMEZONE
TZID:Europe/London
X-LIC-LOCATION:Europe/London
BEGIN:DAYLIGHT
TZOFFSETFROM:+0000
TZOFFSETTO:+0100
TZNAME:BST
DTSTART:19700329T010000
RRULE:FREQ=YEARLY;BYMONTH=3;BYDAY=-1SU
END:DAYLIGHT
BEGIN:STANDARD
TZOFFSETFROM:+0100
TZOFFSETTO:+0000
TZNAME:GMT
DTSTART:19701025T020000
RRULE:FREQ=YEARLY;BYMONTH=10;BYDAY=-1SU
END:STANDARD
END:VTIMEZONE
BEGIN:VEVENT
UID:4626108:Event:5477
DTSTAMP:20260424T052639Z
SUMMARY:POSTPONED - GUEST EVENT: E2 Live - The Entrepreneur's Exhibiti
 on, London
DESCRIPTION:Update: 13/11/2010: THE EVENT ORGANISER - Leon Heywood of 
 Vulpine Events - REGRETS TO ANNOUNCE THAT THIS EVENT HAS NOW BEEN POSP
 ONED UNTIL APRIL 2011. PLEASE SEE THE E2 WEBSITE FOR FURTHER DETAILS..
 .\n\nFor more information visit https://networkinginsurrey.co.uk/event
 s/postponed-guest-event-e2-live
DTSTART;TZID=Europe/London:20101117T000000
DTEND;TZID=Europe/London:20101118T235900
CATEGORIES:exhibition, london
LOCATION:ExCeL London E16 1XL
WEBSITE:http://www.thee2live.com
URL:http://www.thee2live.com
CONTACT:020 7069 5000 Venue
ORGANIZER:E2 Live
ATTACH;FMTTYPE="image/jpeg":http://storage.ning.com/topology/rest/1.0/
 file/get/2591388432?profile=original
END:VEVENT
END:VCALENDAR
