BEGIN:VCALENDAR
PRODID:NingEventWidget-v1
VERSION:2.0
METHOD:PUBLISH
BEGIN:VTIMEZONE
TZID:Europe/London
X-LIC-LOCATION:Europe/London
BEGIN:DAYLIGHT
TZOFFSETFROM:+0000
TZOFFSETTO:+0100
TZNAME:BST
DTSTART:19700329T010000
RRULE:FREQ=YEARLY;BYMONTH=3;BYDAY=-1SU
END:DAYLIGHT
BEGIN:STANDARD
TZOFFSETFROM:+0100
TZOFFSETTO:+0000
TZNAME:GMT
DTSTART:19701025T020000
RRULE:FREQ=YEARLY;BYMONTH=10;BYDAY=-1SU
END:STANDARD
END:VTIMEZONE
BEGIN:VEVENT
UID:4626108:Event:95832
DTSTAMP:20260423T022547Z
SUMMARY:FREE Pool'd Benefits Networking Evening, Redhill
DESCRIPTION:Pool'd Benefits Evening Networking at Brooklyn Bar and Bil
 liards\r\n\r\nPool’d Benefits is a business networking event held ov
 er a friendly game of pool.\r\nIt’s a fantastic opportunity for loca
 l key decision makers to meet fellow business leaders who enjoy an inf
 ormal evening of entertainment.\r\nThe event has been organised by Tow
 ergate Health & Protection. Towergate Health & Protection are a part o
 f Europe’s largest independent brokering firms covering general Insu
 rance and employee benefit needs.\r\nThe event is free to attend and i
 ncludes food, we’re even getting the 1st round in!\r\nCOST: FREE to 
 attend \r\nBOOKING: Please CLICK HERE to book your free place\r\nMAP\
 n\nFor more information visit https://networkinginsurrey.co.uk/events/
 pool-d-benefits
DTSTART;TZID=Europe/London:20180305T190000
DTEND;TZID=Europe/London:20180305T210000
CATEGORIES:evening, redhill, free
LOCATION:Brooklyn Bar and Billiards RH1 1QT
WEBSITE:https://www.eventbrite.com/e/poold-benefits-tickets-4207151704
 0?aff=NIS
URL:https://www.eventbrite.com/e/poold-benefits-tickets-42071517040?af
 f=NIS
CONTACT:07484 080250
ORGANIZER;CN="Terry Fromant":https://networkinginsurrey.co.uk/profile/
 TerryFromant
ATTACH;FMTTYPE="image/jpeg":http://storage.ning.com/topology/rest/1.0/
 file/get/2591470395?profile=original
ATTENDEE;ROLE=REQ-PARTICIPANT;PARTSTAT=ACCEPTED;RSVP=TRUE;CN="Lord Ham
 ilton of Glencoe":https://networkinginsurrey.co.uk/profile/BrianIanHam
 ilton
ATTENDEE;ROLE=REQ-PARTICIPANT;PARTSTAT=ACCEPTED;RSVP=TRUE;CN="Terry Fr
 omant":https://networkinginsurrey.co.uk/profile/TerryFromant
END:VEVENT
END:VCALENDAR
