BEGIN:VCALENDAR
PRODID:NingEventWidget-v1
VERSION:2.0
METHOD:PUBLISH
BEGIN:VTIMEZONE
TZID:Europe/London
X-LIC-LOCATION:Europe/London
BEGIN:DAYLIGHT
TZOFFSETFROM:+0000
TZOFFSETTO:+0100
TZNAME:BST
DTSTART:19700329T010000
RRULE:FREQ=YEARLY;BYMONTH=3;BYDAY=-1SU
END:DAYLIGHT
BEGIN:STANDARD
TZOFFSETFROM:+0100
TZOFFSETTO:+0000
TZNAME:GMT
DTSTART:19701025T020000
RRULE:FREQ=YEARLY;BYMONTH=10;BYDAY=-1SU
END:STANDARD
END:VTIMEZONE
BEGIN:VEVENT
UID:4626108:Event:34403
DTSTAMP:20260421T010208Z
SUMMARY:MEMBER PROMO: Business Plan Full Day Workshop, Woking
DESCRIPTION:Create a Successful Business Plan at Gorse Hill\n\nIt’s 
 often said that if you fail to plan, you plan to fail.\nIt may be a co
 mmon wisdom, but it is much easier said than done. Who likes planning 
 anyway?\nIt takes ages; needs a lot of time without distraction; a cle
 ar idea of what is being planned; how to get there in easy, manageable
  chunks; and a bit of thinking about when this can all be fitted into 
 your everyday work.\nYou feel exhausted even thinking about it. Beside
 s, plans go awry so what’s the point anyway.\nPlanning is easy. Yes,
  it takes a bit of time, but it can be done much quicker than you thin
 k and in a way which motivates and inspires you.\nAnd it all starts wi
 th a clear action plan in manageable chunks which aligns to your strat
 egy, uses your strengths, and is realistic to boot. \nUltimately, thi
 s day is there to set you up for a successful 2012.  \nTake advantag
 e of the Action Groups which are intended to make sure you are stickin
 g to your plan and looking at creative ways to overcome the obstacles 
 which appear in your path so you stay on track, focused, and ploughing
  ahead towards your ambitions.\nWith a clear idea of what you are goin
 g to do and when, you are already 80 percent there.\nCOST: £77.50\nPL
 EASE CLICK HERE TO BOOK\nMAP There is free parking at the venue\nDIRE
 CTIONS\nPaullette Schwartz is passionate about happiness in people and
  profits in business. She works with people who need a little more of 
 either in their lives or business. She has owned two successful busine
 sses, and in addition to a highly successful corporate career, is mom 
 to two and a proud holder of an MBA.\n\nFor more information visit htt
 ps://networkinginsurrey.co.uk/events/plan-for-a-successful-2012
DTSTART;TZID=Europe/London:20111114T090000
DTEND;TZID=Europe/London:20111114T170000
CATEGORIES:workshop
LOCATION:Gorse Hill
WEBSITE:http://2012success.eventbrite.com/
URL:http://2012success.eventbrite.com/
CONTACT:07824311475
ORGANIZER;CN="Paullette Schwartz":https://networkinginsurrey.co.uk/pro
 file/PaulletteSchwartz
ATTACH;FMTTYPE="image/jpeg":http://storage.ning.com/topology/rest/1.0/
 file/get/2591393340?profile=original
ATTENDEE;ROLE=REQ-PARTICIPANT;PARTSTAT=ACCEPTED;RSVP=TRUE;CN="Paullett
 e Schwartz":https://networkinginsurrey.co.uk/profile/PaulletteSchwartz
END:VEVENT
END:VCALENDAR
