BEGIN:VCALENDAR
PRODID:NingEventWidget-v1
VERSION:2.0
METHOD:PUBLISH
BEGIN:VTIMEZONE
TZID:Europe/London
X-LIC-LOCATION:Europe/London
BEGIN:DAYLIGHT
TZOFFSETFROM:+0000
TZOFFSETTO:+0100
TZNAME:BST
DTSTART:19700329T010000
RRULE:FREQ=YEARLY;BYMONTH=3;BYDAY=-1SU
END:DAYLIGHT
BEGIN:STANDARD
TZOFFSETFROM:+0100
TZOFFSETTO:+0000
TZNAME:GMT
DTSTART:19701025T020000
RRULE:FREQ=YEARLY;BYMONTH=10;BYDAY=-1SU
END:STANDARD
END:VTIMEZONE
BEGIN:VEVENT
UID:4626108:Event:96272
DTSTAMP:20260423T005226Z
SUMMARY:FREE Perla Antica Networking Morning, Chobham
DESCRIPTION:Perla Antica Per Il Business!\r\n\r\n\r\nA fantastic morni
 ng networking event for local businesses and the community., with free
  entry and complimentary tea/coffee on arrival.\r\nContact shellie@zes
 tsupportsolutions.co.uk if you wish to exhibit your business at this g
 reat event - stalls are £40 each.\r\nCOST: FREE to attend\r\nBOOKING:
  Please REGISTER HERE for your free place \r\nMAP\r\n(Perla Antica wa
 s formerly called Il Rustico)\n\nFor more information visit https://ne
 tworkinginsurrey.co.uk/events/perla-antica-per-il-business
DTSTART;TZID=Europe/London:20180320T093000
DTEND;TZID=Europe/London:20180320T113000
CATEGORIES:networking, morning
LOCATION:Perla Antica GU24 8AR
WEBSITE:http://www.perlanticarestaurant.com/
URL:http://www.perlanticarestaurant.com/
CONTACT:07739765211
ORGANIZER;CN="Charlotte Troester":https://networkinginsurrey.co.uk/pro
 file/CharlotteTroester
ATTACH;FMTTYPE="image/jpeg":http://storage.ning.com/topology/rest/1.0/
 file/get/2591469290?profile=original
ATTENDEE;ROLE=REQ-PARTICIPANT;PARTSTAT=ACCEPTED;RSVP=TRUE;CN="Charlott
 e Troester":https://networkinginsurrey.co.uk/profile/CharlotteTroester
END:VEVENT
END:VCALENDAR
