BEGIN:VCALENDAR
PRODID:NingEventWidget-v1
VERSION:2.0
METHOD:PUBLISH
BEGIN:VTIMEZONE
TZID:Europe/London
X-LIC-LOCATION:Europe/London
BEGIN:DAYLIGHT
TZOFFSETFROM:+0000
TZOFFSETTO:+0100
TZNAME:BST
DTSTART:19700329T010000
RRULE:FREQ=YEARLY;BYMONTH=3;BYDAY=-1SU
END:DAYLIGHT
BEGIN:STANDARD
TZOFFSETFROM:+0100
TZOFFSETTO:+0000
TZNAME:GMT
DTSTART:19701025T020000
RRULE:FREQ=YEARLY;BYMONTH=10;BYDAY=-1SU
END:STANDARD
END:VTIMEZONE
BEGIN:VEVENT
UID:4626108:Event:75530
DTSTAMP:20260426T034235Z
SUMMARY:MEMBER PROMO: Pensions Auto Enrolment Evening, Guildford
DESCRIPTION:Peal Pensions Auto Enrolment Evening, Guildford\n\nThis in
 teractive seminar will provide an overview of the key requirements and
  challenges posed by auto-enrolment.\nIt will then be followed by a Qu
 estion and Answer session at which both specific and general questions
  will be taken from the floor.\nThe seminar will be facilitated by Mic
 hael Clark, who has substantial experience of the pensions sector for 
 both large companies and SMEs, and auto-enrolment in particular.\nCOST
 : The cost including a buffet meal and wine is £125+VAT. An early bir
 d rate of £75+VAT applies to payments received by 16th November.\nBOO
 KING: Please email info@pealpartnership.co.uk\nMAP  Free onsite par
 king\n\n\nFor more information visit https://networkinginsurrey.co.uk/
 events/pensions-auto-enrolment-seminar
DTSTART;TZID=Europe/London:20151130T180000
DTEND;TZID=Europe/London:20151130T200000
CATEGORIES:seminar, guildford, evening
LOCATION:Guildford Cricket Club
WEBSITE:
URL:
CONTACT:0203 0044779
ORGANIZER;CN="Philip Mendonça":https://networkinginsurrey.co.uk/profi
 le/PhilipMendonca
ATTACH;FMTTYPE="image/jpeg":http://storage.ning.com/topology/rest/1.0/
 file/get/923063544?profile=original
ATTENDEE;ROLE=REQ-PARTICIPANT;PARTSTAT=ACCEPTED;RSVP=TRUE;CN="Philip M
 endonça":https://networkinginsurrey.co.uk/profile/PhilipMendonca
END:VEVENT
END:VCALENDAR
