BEGIN:VCALENDAR
PRODID:NingEventWidget-v1
VERSION:2.0
METHOD:PUBLISH
BEGIN:VTIMEZONE
TZID:Europe/London
X-LIC-LOCATION:Europe/London
BEGIN:DAYLIGHT
TZOFFSETFROM:+0000
TZOFFSETTO:+0100
TZNAME:BST
DTSTART:19700329T010000
RRULE:FREQ=YEARLY;BYMONTH=3;BYDAY=-1SU
END:DAYLIGHT
BEGIN:STANDARD
TZOFFSETFROM:+0100
TZOFFSETTO:+0000
TZNAME:GMT
DTSTART:19701025T020000
RRULE:FREQ=YEARLY;BYMONTH=10;BYDAY=-1SU
END:STANDARD
END:VTIMEZONE
BEGIN:VEVENT
UID:4626108:Event:8013
DTSTAMP:20260424T045644Z
SUMMARY:PechaKucha Night (Volume 3) Guildford
DESCRIPTION:PechaKucha Night at Guildford County School\nPechaKucha i
 s a not-for-profit event and global phenomenon that takes place in som
 e 400 cities worldwide. It brings together creative, talented and inte
 resting people to share their work, their ideas and their stories.The 
 unique format has applies a simple set of rules to each presentation: 
 exactly 20 slides displayed for 20 seconds each. That's it. Say what y
 ou need to say in six minutes and 40 seconds of exquisitely matched wo
 rds and images and then sit the hell down.\nThe result, in the hands o
 f masters of this form, combines business meeting and poetry slam to t
 ransform coporate cliche into surprisingly compelling beat-the-clock p
 erformance art.The next event is on Tuesday February 15th at Guildford
  County School (doors 7:30pm, talks start 8pm, finish 10pm). Confirmed
  speakers include a trustee of UNICEF, a digital expert from WWF, a ge
 ologist, a scientist sending a mobile phone into space, an animal comm
 unicator who has worked with wild lions, a productivity consultant, an
 d more...\nCOST: £3 payable on the door. This is a not-for-profit eve
 nt. It's 'self-catering' too - so please bring a bottle and a snack if
  you wish.\nCLICK HERE TO BOOK\nMAPThere is free parking at the school
 \n\nFor more information visit https://networkinginsurrey.co.uk/events
 /pechakucha-night-volume-3
DTSTART;TZID=Europe/London:20110215T193000
DTEND;TZID=Europe/London:20110215T223000
CATEGORIES:creative, gathering, seminar, networking, evening, guildfor
 d
LOCATION:Guildford County School GU2 4LA
WEBSITE:http://www.humanzoo.biz/Human_Zoo_-_Uncaging_Creativity/PechaK
 ucha_Night.html
URL:http://www.humanzoo.biz/Human_Zoo_-_Uncaging_Creativity/PechaKucha
 _Night.html
CONTACT:07747 608 621
ORGANIZER;CN="Simon Strong":https://networkinginsurrey.co.uk/profile/S
 imonStrong
ATTACH;FMTTYPE="image/jpeg":http://storage.ning.com/topology/rest/1.0/
 file/get/2591395581?profile=original
ATTENDEE;ROLE=REQ-PARTICIPANT;PARTSTAT=ACCEPTED;RSVP=TRUE;CN="Simon St
 rong":https://networkinginsurrey.co.uk/profile/SimonStrong
END:VEVENT
END:VCALENDAR
