BEGIN:VCALENDAR
PRODID:NingEventWidget-v1
VERSION:2.0
METHOD:PUBLISH
BEGIN:VTIMEZONE
TZID:Europe/London
X-LIC-LOCATION:Europe/London
BEGIN:DAYLIGHT
TZOFFSETFROM:+0000
TZOFFSETTO:+0100
TZNAME:BST
DTSTART:19700329T010000
RRULE:FREQ=YEARLY;BYMONTH=3;BYDAY=-1SU
END:DAYLIGHT
BEGIN:STANDARD
TZOFFSETFROM:+0100
TZOFFSETTO:+0000
TZNAME:GMT
DTSTART:19701025T020000
RRULE:FREQ=YEARLY;BYMONTH=10;BYDAY=-1SU
END:STANDARD
END:VTIMEZONE
BEGIN:VEVENT
UID:4626108:Event:17205
DTSTAMP:20260422T155745Z
SUMMARY:PechaKucha Night Guildford Volume 4
DESCRIPTION:PechaKucha inspires creativity in 400 cities around the wo
 rld.  It rests on a simple idea: speakers share their ideas in 20 imag
 es each shown for just 20 seconds.  This format makes presentations co
 ncise and keeps things moving.  For: Designers / Architects / Activist
 s / Advocates / Musicians / Creatives / and Curious Humans  PechaKucha
  Night Guildford Volume #4 The Refectory at Guildford Cathedral, GU2 7
 UP Tuesday 10th May 7:30pm Tickets Cost £3 - This is a not for profit
  event Book Your Seat Online: http://tinyurl.com/6fa8th5  PechaKucha N
 ight - devised and shared by Klein Dytham architecture.\n\nFor more in
 formation visit https://networkinginsurrey.co.uk/events/pechakucha-nig
 ht-guildford
DTSTART;TZID=Europe/London:20110510T193000
DTEND;TZID=Europe/London:20110510T223000
CATEGORIES:inspiration, and, networking
LOCATION:The Refectory at Guildford Cathedral
WEBSITE:http://maps.google.co.uk/maps?client=firefox-a&rls=org.mozilla
 :en-US:official&hl=en&tab=wl
URL:http://maps.google.co.uk/maps?client=firefox-a&rls=org.mozilla:en-
 US:official&hl=en&tab=wl
CONTACT:07747 608 621
ORGANIZER;CN="Simon Strong":https://networkinginsurrey.co.uk/profile/S
 imonStrong
ATTACH;FMTTYPE="image/jpeg":http://storage.ning.com/topology/rest/1.0/
 file/get/2591391527?profile=original
ATTENDEE;ROLE=REQ-PARTICIPANT;PARTSTAT=ACCEPTED;RSVP=TRUE;CN="Simon St
 rong":https://networkinginsurrey.co.uk/profile/SimonStrong
END:VEVENT
END:VCALENDAR
