BEGIN:VCALENDAR
PRODID:NingEventWidget-v1
VERSION:2.0
METHOD:PUBLISH
BEGIN:VTIMEZONE
TZID:Europe/London
X-LIC-LOCATION:Europe/London
BEGIN:DAYLIGHT
TZOFFSETFROM:+0000
TZOFFSETTO:+0100
TZNAME:BST
DTSTART:19700329T010000
RRULE:FREQ=YEARLY;BYMONTH=3;BYDAY=-1SU
END:DAYLIGHT
BEGIN:STANDARD
TZOFFSETFROM:+0100
TZOFFSETTO:+0000
TZNAME:GMT
DTSTART:19701025T020000
RRULE:FREQ=YEARLY;BYMONTH=10;BYDAY=-1SU
END:STANDARD
END:VTIMEZONE
BEGIN:VEVENT
UID:4626108:Event:71612
DTSTAMP:20260419T195248Z
SUMMARY:Peal Networking Lunch, Haslemere
DESCRIPTION:Peal Networking Lunch, Haslemere\n\nYou are warmly invited
  to join us for our next monthly networking event which will take plac
 e on 19th June 2015 at Haslemere Town Hall.\nThe format of the event i
 s very relaxed with both formal and informal networking, and food and 
 wine is provided.  Please feel free to join us from 12 noon onwards, 
 but you should note that the 'one minute' presentations will commence 
 at 12.30pm.\nPeal Networking Club is a friendly, flexible and professi
 onal business group that is open to anyone who would like to attend it
 s monthly networking events. We have been running Surrey-based network
 ing events in Guildford and Haslemere since August 2004. The events ar
 e usually at lunchtime on a Friday.\nOn the day we will provide a list
  of all attendees, together with their contact details, and a brief de
 scription of their business. Peal Networking Club has no attendance co
 mmitments, nor does it have any membership or annual fees. The only ch
 arge made is £15 [if paid a week in advance] to cover the costs of hi
 ring the venue and refreshments.\nCOST: £15 [if paid a week in advanc
 e] to cover the costs of hiring the venue and refreshments.\nBOOKING: 
 Please go to http://pealnetworking.co.uk/haslemere-networking to boo
 k\nMAP\nIf the timing of this event is not right for you - feel free t
 o 'dip in and out' of monthly events as suits.\n\nFor more information
  visit https://networkinginsurrey.co.uk/events/peal-networking-lunch-h
 aslemere
DTSTART;TZID=Europe/London:20150619T120000
DTEND;TZID=Europe/London:20150619T140000
CATEGORIES:networking, lunch, haslemere
LOCATION:Haslemere Town Hall GU27 2HG
WEBSITE:
URL:
CONTACT:0203 0044779
ORGANIZER;CN="Philip Mendonça":https://networkinginsurrey.co.uk/profi
 le/PhilipMendonca
ATTACH;FMTTYPE="image/jpeg":http://storage.ning.com/topology/rest/1.0/
 file/get/654194732?profile=original
ATTENDEE;ROLE=REQ-PARTICIPANT;PARTSTAT=ACCEPTED;RSVP=TRUE;CN="Philip M
 endonça":https://networkinginsurrey.co.uk/profile/PhilipMendonca
END:VEVENT
END:VCALENDAR
